Workbook

Sheet IAR Div
B2: =Scores!B21 -> CSSC TSA Winter 2026/27 IAR Div Z (% Improvement)
B3: Club | D3: =IF($H$29,"",Scores!$B$22) -> 0 | H3: 1 | I3: Ave | K3: =IF($H$29,"",Scores!$C$22) -> 0 | N3: =IF($R$29,"",Scores!$B$24) -> 0 | R3: 2 | S3: Ave | U3: =IF($R$29,"",Scores!$C$24) -> 0 | X3: =IF($AB$29,"",Scores!$B$26) -> 0 | AB3: 3 | AC3: Ave | AE3: =IF($AB$29,"",Scores!$C$26) -> 0 | AH3: =IF($AL$29,"",Scores!$B$28) -> 0 | AL3: 4 | AM3: Ave | AO3: =IF($AL$29,"",Scores!$C$28) -> 0 | AR3: =IF($AV$29,"",Scores!$B$30) -> 0 | AV3: 5 | AW3: Ave | AY3: =IF($AV$29,"",Scores!$C$30) -> 0 | BB3: =IF($BF$29,"",Scores!$B$32) -> 0 | BF3: 6 | BG3: Ave | BI3: =IF($BF$29,"",Scores!$C$32) -> 0
B4: Competitor | D4: =Scores!$B$23 -> 0 | N4: =Scores!$B$25 -> 0 | X4: =Scores!$B$27 -> 0 | AH4: =Scores!$B$29 -> 0 | AR4: =Scores!$B$31 -> 0 | BB4: =Scores!$B$33 -> 0
B5: Last Day | C5: Round | D5: Ind Card | F5: Score | G5: % IMP | H5: Oppo | I5: Aggregate | J5: Result | K5: Points | L5: Agg.Pts | N5: Ind Card | P5: Score | Q5: % IMP | R5: Oppo | S5: Aggregate | T5: Result | U5: Points | V5: Agg.Pts | X5: Ind Card | Z5: Score | AA5: % IMP | AB5: Oppo | AC5: Aggregate | AD5: Result | AE5: Points | AF5: Agg.Pts | AH5: Ind Card | AJ5: Score | AK5: % IMP | AL5: Oppo | AM5: Aggregate | AN5: Result | AO5: Points | AP5: Agg.Pts | AR5: Ind Card | AT5: Score | AU5: % IMP | AV5: Oppo | AW5: Aggregate | AX5: Result | AY5: Points | AZ5: Agg.Pts | BB5: Ind Card | BD5: Score | BE5: % IMP | BF5: Oppo | BG5: Aggregate | BH5: Result | BI5: Points | BJ5: Agg.Pts
B6: =Scores!$D$18 -> 46316 | C6: 1 | D6: =IF(OR($H$29,Scores!$H$1<$C$6),"",Scores!$D$22) | E6: =IF(OR($H$29,Scores!$H$1<$C$6),"",Scores!$E$22) | F6: =IF(D6="","",IF(D6="N","NCR",IF(D6="D","DQ",Scores!$F$22))) | G6: =IF($H$29,0,IF(OR(F6="NCR",F6="DQ"),-5000,IF(F6="","",(F6-$K$3)/(200-$K$3)*100))) | H6: 2 | I6: =IF(OR($H$29,F6=""),"",IF(F6="NCR",0,F6)+IF($C6=1,0,I4)) | J6: =IF(Scores!$H$1<$C6,"",IF(G6="","",IF(OR(F6="NCR",F6="DQ"),"L",IF(OR(OFFSET($F6,0,(H6-1)*10)="NCR",OFFSET($F6,0,(H6-1)*10)="DQ"),"W",IF(OFFSET($G6,0,(H6-1)*10)="","",IF(G6=OFFSET($G6,0,(H6-1)*10),"D",IF(G6<OFFSET($G6,0,(H6-1)*10),"L","W"))))))) | K6: =IF(F6="","",IF(J6="D",1,IF(J6="W",2,0))) | L6: =IF(K6="","",SUM(K$6:K6)) | N6: =IF(OR($R$29,Scores!$H$1<$C$6),"",Scores!$D$24) | O6: =IF(OR($R$29,Scores!$H$1<$C$6),"",Scores!$E$24) | P6: =IF(N6="","",IF(N6="N","NCR",IF(N6="D","DQ",Scores!$F$24))) | Q6: =IF($R$29,0,IF(OR(P6="NCR",P6="DQ"),-5000,IF(P6="","",(P6-$U$3)/(200-$U$3)*100))) | R6: 1 | S6: =IF(OR($H$29,P6=""),"",IF(P6="NCR",0,P6)+IF($C6=1,0,S4)) | T6: =IF(Scores!$H$1<$C6,"",IF(Q6="","",IF(OR(P6="NCR",P6="DQ"),"L",IF(OR(OFFSET($F6,0,(R6-1)*10)="NCR",OFFSET($F6,0,(R6-1)*10)="DQ"),"W",IF(OFFSET($G6,0,(R6-1)*10)="","",IF(Q6=OFFSET($G6,0,(R6-1)*10),"D",IF(Q6<OFFSET($G6,0,(R6-1)*10),"L","W"))))))) | U6: =IF(T6="","",IF(T6="D",1,IF(T6="W",2,0))) | V6: =IF(U6="","",SUM(U$6:U6)) | X6: =IF(OR($AB$29,Scores!$H$1<$C$6),"",Scores!$D$26) | Y6: =IF(OR($AB$29,Scores!$H$1<$C$6),"",Scores!$E$26) | Z6: =IF(X6="","",IF(X6="N","NCR",IF(X6="D","DQ",Scores!$F$26))) | AA6: =IF($AB$29,0,IF(OR(Z6="NCR",Z6="DQ"),-5000,IF(Z6="","",(Z6-$AE$3)/(200-$AE$3)*100))) | AB6: 5 | AC6: =IF(OR($H$29,Z6=""),"",IF(Z6="NCR",0,Z6)+IF($C6=1,0,AC4)) | AD6: =IF(Scores!$H$1<$C6,"",IF(AA6="","",IF(OR(Z6="NCR",Z6="DQ"),"L",IF(OR(OFFSET($F6,0,(AB6-1)*10)="NCR",OFFSET($F6,0,(AB6-1)*10)="DQ"),"W",IF(OFFSET($G6,0,(AB6-1)*10)="","",IF(AA6=OFFSET($G6,0,(AB6-1)*10),"D",IF(AA6<OFFSET($G6,0,(AB6-1)*10),"L","W"))))))) | AE6: =IF(AD6="","",IF(AD6="D",1,IF(AD6="W",2,0))) | AF6: =IF(AE6="","",SUM(AE$6:AE6)) | AH6: =IF(OR($AL$29,Scores!$H$1<$C$6),"",Scores!$D$28) | AI6: =IF(OR($AL$29,Scores!$H$1<$C$6),"",Scores!$E$28) | AJ6: =IF(AH6="","",IF(AH6="N","NCR",IF(AH6="D","DQ",Scores!$F$28))) | AK6: =IF($AL$29,0,IF(OR(AJ6="NCR",AJ6="DQ"),-5000,IF(AJ6="","",(AJ6-$AO$3)/(200-$AO$3)*100))) | AL6: 6 | AM6: =IF(OR($H$29,AJ6=""),"",IF(AJ6="NCR",0,AJ6)+IF($C6=1,0,AM4)) | AN6: =IF(Scores!$H$1<$C6,"",IF(AK6="","",IF(OR(AJ6="NCR",AJ6="DQ"),"L",IF(OR(OFFSET($F6,0,(AL6-1)*10)="NCR",OFFSET($F6,0,(AL6-1)*10)="DQ"),"W",IF(OFFSET($G6,0,(AL6-1)*10)="","",IF(AK6=OFFSET($G6,0,(AL6-1)*10),"D",IF(AK6<OFFSET($G6,0,(AL6-1)*10),"L","W"))))))) | AO6: =IF(AN6="","",IF(AN6="D",1,IF(AN6="W",2,0))) | AP6: =IF(AO6="","",SUM(AO$6:AO6)) | AR6: =IF(OR($AV$29,Scores!$H$1<$C$6),"",Scores!$D$30) | AS6: =IF(OR($AV$29,Scores!$H$1<$C$6),"",Scores!$E$30) | AT6: =IF(AR6="","",IF(AR6="N","NCR",IF(AR6="D","DQ",Scores!$F$30))) | AU6: =IF($AV$29,0,IF(OR(AT6="NCR",AT6="DQ"),-5000,IF(AT6="","",(AT6-$AY$3)/(200-$AY$3)*100))) | AV6: 3 | AW6: =IF(OR($H$29,AT6=""),"",IF(AT6="NCR",0,AT6)+IF($C6=1,0,AW4)) | AX6: =IF(Scores!$H$1<$C6,"",IF(AU6="","",IF(OR(AT6="NCR",AT6="DQ"),"L",IF(OR(OFFSET($F6,0,(AV6-1)*10)="NCR",OFFSET($F6,0,(AV6-1)*10)="DQ"),"W",IF(OFFSET($G6,0,(AV6-1)*10)="","",IF(AU6=OFFSET($G6,0,(AV6-1)*10),"D",IF(AU6<OFFSET($G6,0,(AV6-1)*10),"L","W"))))))) | AY6: =IF(AX6="","",IF(AX6="D",1,IF(AX6="W",2,0))) | AZ6: =IF(AY6="","",SUM(AY$6:AY6)) | BB6: =IF(OR($BF$29,Scores!$H$1<$C$6),"",Scores!$D$32) | BC6: =IF(OR($BF$29,Scores!$H$1<$C$6),"",Scores!$E$32) | BD6: =IF(BB6="","",IF(BB6="N","NCR",IF(BB6="D","DQ",Scores!$F$32))) | BE6: =IF($BF$29,0,IF(OR(BD6="NCR",BD6="DQ"),-5000,IF(BD6="","",(BD6-$BI$3)/(200-$BI$3)*100))) | BF6: 4 | BG6: =IF(OR($H$29,BD6=""),"",IF(BD6="NCR",0,BD6)+IF($C6=1,0,BG4)) | BH6: =IF(Scores!$H$1<$C6,"",IF(BE6="","",IF(OR(BD6="NCR",BD6="DQ"),"L",IF(OR(OFFSET($F6,0,(BF6-1)*10)="NCR",OFFSET($F6,0,(BF6-1)*10)="DQ"),"W",IF(OFFSET($G6,0,(BF6-1)*10)="","",IF(BE6=OFFSET($G6,0,(BF6-1)*10),"D",IF(BE6<OFFSET($G6,0,(BF6-1)*10),"L","W"))))))) | BI6: =IF(BH6="","",IF(BH6="D",1,IF(BH6="W",2,0))) | BJ6: =IF(BI6="","",SUM(BI$6:BI6))
D7: =IF(OR($H$29,Scores!$H$1<$C$6),"",Scores!$D$23) | E7: =IF(OR($H$29,Scores!$H$1<$C$6),"",Scores!$E$23) | N7: =IF(OR($R$29,Scores!$H$1<$C$6),"",Scores!$D$25) | O7: =IF(OR($R$29,Scores!$H$1<$C$6),"",Scores!$E$25) | X7: =IF(OR($AB$29,Scores!$H$1<$C$6),"",Scores!$D$27) | Y7: =IF(OR($AB$29,Scores!$H$1<$C$6),"",Scores!$E$27) | AH7: =IF(OR($AL$29,Scores!$H$1<$C$6),"",Scores!$D$29) | AI7: =IF(OR($AL$29,Scores!$H$1<$C$6),"",Scores!$E$29) | AR7: =IF(OR($AV$29,Scores!$H$1<$C$6),"",Scores!$D$31) | AS7: =IF(OR($AV$29,Scores!$H$1<$C$6),"",Scores!$E$31) | BB7: =IF(OR($BF$29,Scores!$H$1<$C$6),"",Scores!$D$33) | BC7: =IF(OR($BF$29,Scores!$H$1<$C$6),"",Scores!$E$33)
B8: =Scores!$G$18 -> 46330 | C8: 2 | D8: =IF(OR($H$29,Scores!$H$1<$C$8),"",Scores!$G$22) | E8: =IF(OR($H$29,Scores!$H$1<$C$8),"",Scores!$H$22) | F8: =IF(D8="","",IF(D8="N","NCR",IF(D8="D","DQ",Scores!$I$22))) | G8: =IF($H$29,0,IF(OR(F8="NCR",F8="DQ"),-5000,IF(F8="","",(F8-$K$3)/(200-$K$3)*100))) | H8: 3 | I8: =IF(OR($H$29,F8=""),"",IF(F8="NCR",0,F8)+IF($C8=1,0,I6)) | J8: =IF(Scores!$H$1<$C8,"",IF(G8="","",IF(OR(F8="NCR",F8="DQ"),"L",IF(OR(OFFSET($F8,0,(H8-1)*10)="NCR",OFFSET($F8,0,(H8-1)*10)="DQ"),"W",IF(OFFSET($G8,0,(H8-1)*10)="","",IF(G8=OFFSET($G8,0,(H8-1)*10),"D",IF(G8<OFFSET($G8,0,(H8-1)*10),"L","W"))))))) | K8: =IF(F8="","",IF(J8="D",1,IF(J8="W",2,0))) | L8: =IF(K8="","",SUM(K$6:K8)) | N8: =IF(OR($R$29,Scores!$H$1<$C$8),"",Scores!$G$24) | O8: =IF(OR($R$29,Scores!$H$1<$C$8),"",Scores!$H$24) | P8: =IF(N8="","",IF(N8="N","NCR",IF(N8="D","DQ",Scores!$I$24))) | Q8: =IF($R$29,0,IF(OR(P8="NCR",P8="DQ"),-5000,IF(P8="","",(P8-$U$3)/(200-$U$3)*100))) | R8: 4 | S8: =IF(OR($H$29,P8=""),"",IF(P8="NCR",0,P8)+IF($C8=1,0,S6)) | T8: =IF(Scores!$H$1<$C8,"",IF(Q8="","",IF(OR(P8="NCR",P8="DQ"),"L",IF(OR(OFFSET($F8,0,(R8-1)*10)="NCR",OFFSET($F8,0,(R8-1)*10)="DQ"),"W",IF(OFFSET($G8,0,(R8-1)*10)="","",IF(Q8=OFFSET($G8,0,(R8-1)*10),"D",IF(Q8<OFFSET($G8,0,(R8-1)*10),"L","W"))))))) | U8: =IF(T8="","",IF(T8="D",1,IF(T8="W",2,0))) | V8: =IF(U8="","",SUM(U$6:U8)) | X8: =IF(OR($AB$29,Scores!$H$1<$C$8),"",Scores!$G$26) | Y8: =IF(OR($AB$29,Scores!$H$1<$C$8),"",Scores!$H$26) | Z8: =IF(X8="","",IF(X8="N","NCR",IF(X8="D","DQ",Scores!$I$26))) | AA8: =IF($AB$29,0,IF(OR(Z8="NCR",Z8="DQ"),-5000,IF(Z8="","",(Z8-$AE$3)/(200-$AE$3)*100))) | AB8: 1 | AC8: =IF(OR($H$29,Z8=""),"",IF(Z8="NCR",0,Z8)+IF($C8=1,0,AC6)) | AD8: =IF(Scores!$H$1<$C8,"",IF(AA8="","",IF(OR(Z8="NCR",Z8="DQ"),"L",IF(OR(OFFSET($F8,0,(AB8-1)*10)="NCR",OFFSET($F8,0,(AB8-1)*10)="DQ"),"W",IF(OFFSET($G8,0,(AB8-1)*10)="","",IF(AA8=OFFSET($G8,0,(AB8-1)*10),"D",IF(AA8<OFFSET($G8,0,(AB8-1)*10),"L","W"))))))) | AE8: =IF(AD8="","",IF(AD8="D",1,IF(AD8="W",2,0))) | AF8: =IF(AE8="","",SUM(AE$6:AE8)) | AH8: =IF(OR($AL$29,Scores!$H$1<$C$8),"",Scores!$G$28) | AI8: =IF(OR($AL$29,Scores!$H$1<$C$8),"",Scores!$H$28) | AJ8: =IF(AH8="","",IF(AH8="N","NCR",IF(AH8="D","DQ",Scores!$I$28))) | AK8: =IF($AL$29,0,IF(OR(AJ8="NCR",AJ8="DQ"),-5000,IF(AJ8="","",(AJ8-$AO$3)/(200-$AO$3)*100))) | AL8: 2 | AM8: =IF(OR($H$29,AJ8=""),"",IF(AJ8="NCR",0,AJ8)+IF($C8=1,0,AM6)) | AN8: =IF(Scores!$H$1<$C8,"",IF(AK8="","",IF(OR(AJ8="NCR",AJ8="DQ"),"L",IF(OR(OFFSET($F8,0,(AL8-1)*10)="NCR",OFFSET($F8,0,(AL8-1)*10)="DQ"),"W",IF(OFFSET($G8,0,(AL8-1)*10)="","",IF(AK8=OFFSET($G8,0,(AL8-1)*10),"D",IF(AK8<OFFSET($G8,0,(AL8-1)*10),"L","W"))))))) | AO8: =IF(AN8="","",IF(AN8="D",1,IF(AN8="W",2,0))) | AP8: =IF(AO8="","",SUM(AO$6:AO8)) | AR8: =IF(OR($AV$29,Scores!$H$1<$C$8),"",Scores!$G$30) | AS8: =IF(OR($AV$29,Scores!$H$1<$C$8),"",Scores!$H$30) | AT8: =IF(AR8="","",IF(AR8="N","NCR",IF(AR8="D","DQ",Scores!$I$30))) | AU8: =IF($AV$29,0,IF(OR(AT8="NCR",AT8="DQ"),-5000,IF(AT8="","",(AT8-$AY$3)/(200-$AY$3)*100))) | AV8: 6 | AW8: =IF(OR($H$29,AT8=""),"",IF(AT8="NCR",0,AT8)+IF($C8=1,0,AW6)) | AX8: =IF(Scores!$H$1<$C8,"",IF(AU8="","",IF(OR(AT8="NCR",AT8="DQ"),"L",IF(OR(OFFSET($F8,0,(AV8-1)*10)="NCR",OFFSET($F8,0,(AV8-1)*10)="DQ"),"W",IF(OFFSET($G8,0,(AV8-1)*10)="","",IF(AU8=OFFSET($G8,0,(AV8-1)*10),"D",IF(AU8<OFFSET($G8,0,(AV8-1)*10),"L","W"))))))) | AY8: =IF(AX8="","",IF(AX8="D",1,IF(AX8="W",2,0))) | AZ8: =IF(AY8="","",SUM(AY$6:AY8)) | BB8: =IF(OR($BF$29,Scores!$H$1<$C$8),"",Scores!$G$32) | BC8: =IF(OR($BF$29,Scores!$H$1<$C$8),"",Scores!$H$32) | BD8: =IF(BB8="","",IF(BB8="N","NCR",IF(BB8="D","DQ",Scores!$I$32))) | BE8: =IF($BF$29,0,IF(OR(BD8="NCR",BD8="DQ"),-5000,IF(BD8="","",(BD8-$BI$3)/(200-$BI$3)*100))) | BF8: 5 | BG8: =IF(OR($H$29,BD8=""),"",IF(BD8="NCR",0,BD8)+IF($C8=1,0,BG6)) | BH8: =IF(Scores!$H$1<$C8,"",IF(BE8="","",IF(OR(BD8="NCR",BD8="DQ"),"L",IF(OR(OFFSET($F8,0,(BF8-1)*10)="NCR",OFFSET($F8,0,(BF8-1)*10)="DQ"),"W",IF(OFFSET($G8,0,(BF8-1)*10)="","",IF(BE8=OFFSET($G8,0,(BF8-1)*10),"D",IF(BE8<OFFSET($G8,0,(BF8-1)*10),"L","W"))))))) | BI8: =IF(BH8="","",IF(BH8="D",1,IF(BH8="W",2,0))) | BJ8: =IF(BI8="","",SUM(BI$6:BI8))
D9: =IF(OR($H$29,Scores!$H$1<$C$8),"",Scores!$G$23) | E9: =IF(OR($H$29,Scores!$H$1<$C$8),"",Scores!$H$23) | N9: =IF(OR($R$29,Scores!$H$1<$C$8),"",Scores!$G$25) | O9: =IF(OR($R$29,Scores!$H$1<$C$8),"",Scores!$H$25) | X9: =IF(OR($AB$29,Scores!$H$1<$C$8),"",Scores!$G$27) | Y9: =IF(OR($AB$29,Scores!$H$1<$C$8),"",Scores!$H$27) | AH9: =IF(OR($AL$29,Scores!$H$1<$C$8),"",Scores!$G$29) | AI9: =IF(OR($AL$29,Scores!$H$1<$C$8),"",Scores!$H$29) | AR9: =IF(OR($AV$29,Scores!$H$1<$C$8),"",Scores!$G$31) | AS9: =IF(OR($AV$29,Scores!$H$1<$C$8),"",Scores!$H$31) | BB9: =IF(OR($BF$29,Scores!$H$1<$C$8),"",Scores!$G$33) | BC9: =IF(OR($BF$29,Scores!$H$1<$C$8),"",Scores!$H$33)
B10: =Scores!$J$18 -> 46344 | C10: 3 | D10: =IF(OR($H$29,Scores!$H$1<$C$10),"",Scores!$J$22) | E10: =IF(OR($H$29,Scores!$H$1<$C$10),"",Scores!$K$22) | F10: =IF(D10="","",IF(D10="N","NCR",IF(D10="D","DQ",Scores!$L$22))) | G10: =IF($H$29,0,IF(OR(F10="NCR",F10="DQ"),-5000,IF(F10="","",(F10-$K$3)/(200-$K$3)*100))) | H10: 4 | I10: =IF(OR($H$29,F10=""),"",IF(F10="NCR",0,F10)+IF($C10=1,0,I8)) | J10: =IF(Scores!$H$1<$C10,"",IF(G10="","",IF(OR(F10="NCR",F10="DQ"),"L",IF(OR(OFFSET($F10,0,(H10-1)*10)="NCR",OFFSET($F10,0,(H10-1)*10)="DQ"),"W",IF(OFFSET($G10,0,(H10-1)*10)="","",IF(G10=OFFSET($G10,0,(H10-1)*10),"D",IF(G10<OFFSET($G10,0,(H10-1)*10),"L","W"))))))) | K10: =IF(F10="","",IF(J10="D",1,IF(J10="W",2,0))) | L10: =IF(K10="","",SUM(K$6:K10)) | N10: =IF(OR($R$29,Scores!$H$1<$C$10),"",Scores!$J$24) | O10: =IF(OR($R$29,Scores!$H$1<$C$10),"",Scores!$K$24) | P10: =IF(N10="","",IF(N10="N","NCR",IF(N10="D","DQ",Scores!$L$24))) | Q10: =IF($R$29,0,IF(OR(P10="NCR",P10="DQ"),-5000,IF(P10="","",(P10-$U$3)/(200-$U$3)*100))) | R10: 5 | S10: =IF(OR($H$29,P10=""),"",IF(P10="NCR",0,P10)+IF($C10=1,0,S8)) | T10: =IF(Scores!$H$1<$C10,"",IF(Q10="","",IF(OR(P10="NCR",P10="DQ"),"L",IF(OR(OFFSET($F10,0,(R10-1)*10)="NCR",OFFSET($F10,0,(R10-1)*10)="DQ"),"W",IF(OFFSET($G10,0,(R10-1)*10)="","",IF(Q10=OFFSET($G10,0,(R10-1)*10),"D",IF(Q10<OFFSET($G10,0,(R10-1)*10),"L","W"))))))) | U10: =IF(T10="","",IF(T10="D",1,IF(T10="W",2,0))) | V10: =IF(U10="","",SUM(U$6:U10)) | X10: =IF(OR($AB$29,Scores!$H$1<$C$10),"",Scores!$J$26) | Y10: =IF(OR($AB$29,Scores!$H$1<$C$10),"",Scores!$K$26) | Z10: =IF(X10="","",IF(X10="N","NCR",IF(X10="D","DQ",Scores!$L$26))) | AA10: =IF($AB$29,0,IF(OR(Z10="NCR",Z10="DQ"),-5000,IF(Z10="","",(Z10-$AE$3)/(200-$AE$3)*100))) | AB10: 6 | AC10: =IF(OR($H$29,Z10=""),"",IF(Z10="NCR",0,Z10)+IF($C10=1,0,AC8)) | AD10: =IF(Scores!$H$1<$C10,"",IF(AA10="","",IF(OR(Z10="NCR",Z10="DQ"),"L",IF(OR(OFFSET($F10,0,(AB10-1)*10)="NCR",OFFSET($F10,0,(AB10-1)*10)="DQ"),"W",IF(OFFSET($G10,0,(AB10-1)*10)="","",IF(AA10=OFFSET($G10,0,(AB10-1)*10),"D",IF(AA10<OFFSET($G10,0,(AB10-1)*10),"L","W"))))))) | AE10: =IF(AD10="","",IF(AD10="D",1,IF(AD10="W",2,0))) | AF10: =IF(AE10="","",SUM(AE$6:AE10)) | AH10: =IF(OR($AL$29,Scores!$H$1<$C$10),"",Scores!$J$28) | AI10: =IF(OR($AL$29,Scores!$H$1<$C$10),"",Scores!$K$28) | AJ10: =IF(AH10="","",IF(AH10="N","NCR",IF(AH10="D","DQ",Scores!$L$28))) | AK10: =IF($AL$29,0,IF(OR(AJ10="NCR",AJ10="DQ"),-5000,IF(AJ10="","",(AJ10-$AO$3)/(200-$AO$3)*100))) | AL10: 1 | AM10: =IF(OR($H$29,AJ10=""),"",IF(AJ10="NCR",0,AJ10)+IF($C10=1,0,AM8)) | AN10: =IF(Scores!$H$1<$C10,"",IF(AK10="","",IF(OR(AJ10="NCR",AJ10="DQ"),"L",IF(OR(OFFSET($F10,0,(AL10-1)*10)="NCR",OFFSET($F10,0,(AL10-1)*10)="DQ"),"W",IF(OFFSET($G10,0,(AL10-1)*10)="","",IF(AK10=OFFSET($G10,0,(AL10-1)*10),"D",IF(AK10<OFFSET($G10,0,(AL10-1)*10),"L","W"))))))) | AO10: =IF(AN10="","",IF(AN10="D",1,IF(AN10="W",2,0))) | AP10: =IF(AO10="","",SUM(AO$6:AO10)) | AR10: =IF(OR($AV$29,Scores!$H$1<$C$10),"",Scores!$J$30) | AS10: =IF(OR($AV$29,Scores!$H$1<$C$10),"",Scores!$K$30) | AT10: =IF(AR10="","",IF(AR10="N","NCR",IF(AR10="D","DQ",Scores!$L$30))) | AU10: =IF($AV$29,0,IF(OR(AT10="NCR",AT10="DQ"),-5000,IF(AT10="","",(AT10-$AY$3)/(200-$AY$3)*100))) | AV10: 2 | AW10: =IF(OR($H$29,AT10=""),"",IF(AT10="NCR",0,AT10)+IF($C10=1,0,AW8)) | AX10: =IF(Scores!$H$1<$C10,"",IF(AU10="","",IF(OR(AT10="NCR",AT10="DQ"),"L",IF(OR(OFFSET($F10,0,(AV10-1)*10)="NCR",OFFSET($F10,0,(AV10-1)*10)="DQ"),"W",IF(OFFSET($G10,0,(AV10-1)*10)="","",IF(AU10=OFFSET($G10,0,(AV10-1)*10),"D",IF(AU10<OFFSET($G10,0,(AV10-1)*10),"L","W"))))))) | AY10: =IF(AX10="","",IF(AX10="D",1,IF(AX10="W",2,0))) | AZ10: =IF(AY10="","",SUM(AY$6:AY10)) | BB10: =IF(OR($BF$29,Scores!$H$1<$C$10),"",Scores!$J$32) | BC10: =IF(OR($BF$29,Scores!$H$1<$C$10),"",Scores!$K$32) | BD10: =IF(BB10="","",IF(BB10="N","NCR",IF(BB10="D","DQ",Scores!$L$32))) | BE10: =IF($BF$29,0,IF(OR(BD10="NCR",BD10="DQ"),-5000,IF(BD10="","",(BD10-$BI$3)/(200-$BI$3)*100))) | BF10: 3 | BG10: =IF(OR($H$29,BD10=""),"",IF(BD10="NCR",0,BD10)+IF($C10=1,0,BG8)) | BH10: =IF(Scores!$H$1<$C10,"",IF(BE10="","",IF(OR(BD10="NCR",BD10="DQ"),"L",IF(OR(OFFSET($F10,0,(BF10-1)*10)="NCR",OFFSET($F10,0,(BF10-1)*10)="DQ"),"W",IF(OFFSET($G10,0,(BF10-1)*10)="","",IF(BE10=OFFSET($G10,0,(BF10-1)*10),"D",IF(BE10<OFFSET($G10,0,(BF10-1)*10),"L","W"))))))) | BI10: =IF(BH10="","",IF(BH10="D",1,IF(BH10="W",2,0))) | BJ10: =IF(BI10="","",SUM(BI$6:BI10))
D11: =IF(OR($H$29,Scores!$H$1<$C$10),"",Scores!$J$23) | E11: =IF(OR($H$29,Scores!$H$1<$C$10),"",Scores!$K$23) | N11: =IF(OR($R$29,Scores!$H$1<$C$10),"",Scores!$J$25) | O11: =IF(OR($R$29,Scores!$H$1<$C$10),"",Scores!$K$25) | X11: =IF(OR($AB$29,Scores!$H$1<$C$10),"",Scores!$J$27) | Y11: =IF(OR($AB$29,Scores!$H$1<$C$10),"",Scores!$K$27) | AH11: =IF(OR($AL$29,Scores!$H$1<$C$10),"",Scores!$J$29) | AI11: =IF(OR($AL$29,Scores!$H$1<$C$10),"",Scores!$K$29) | AR11: =IF(OR($AV$29,Scores!$H$1<$C$10),"",Scores!$J$31) | AS11: =IF(OR($AV$29,Scores!$H$1<$C$10),"",Scores!$K$31) | BB11: =IF(OR($BF$29,Scores!$H$1<$C$10),"",Scores!$J$33) | BC11: =IF(OR($BF$29,Scores!$H$1<$C$10),"",Scores!$K$33)
B12: =Scores!$M$18 -> 46358 | C12: 4 | D12: =IF(OR($H$29,Scores!$H$1<$C$12),"",Scores!$M$22) | E12: =IF(OR($H$29,Scores!$H$1<$C$12),"",Scores!$N$22) | F12: =IF(D12="","",IF(D12="N","NCR",IF(D12="D","DQ",Scores!$O$22))) | G12: =IF($H$29,0,IF(OR(F12="NCR",F12="DQ"),-5000,IF(F12="","",(F12-$K$3)/(200-$K$3)*100))) | H12: 5 | I12: =IF(OR($H$29,F12=""),"",IF(F12="NCR",0,F12)+IF($C12=1,0,I10)) | J12: =IF(Scores!$H$1<$C12,"",IF(G12="","",IF(OR(F12="NCR",F12="DQ"),"L",IF(OR(OFFSET($F12,0,(H12-1)*10)="NCR",OFFSET($F12,0,(H12-1)*10)="DQ"),"W",IF(OFFSET($G12,0,(H12-1)*10)="","",IF(G12=OFFSET($G12,0,(H12-1)*10),"D",IF(G12<OFFSET($G12,0,(H12-1)*10),"L","W"))))))) | K12: =IF(F12="","",IF(J12="D",1,IF(J12="W",2,0))) | L12: =IF(K12="","",SUM(K$6:K12)) | N12: =IF(OR($R$29,Scores!$H$1<$C$12),"",Scores!$M$24) | O12: =IF(OR($R$29,Scores!$H$1<$C$12),"",Scores!$N$24) | P12: =IF(N12="","",IF(N12="N","NCR",IF(N12="D","DQ",Scores!$O$24))) | Q12: =IF($R$29,0,IF(OR(P12="NCR",P12="DQ"),-5000,IF(P12="","",(P12-$U$3)/(200-$U$3)*100))) | R12: 6 | S12: =IF(OR($H$29,P12=""),"",IF(P12="NCR",0,P12)+IF($C12=1,0,S10)) | T12: =IF(Scores!$H$1<$C12,"",IF(Q12="","",IF(OR(P12="NCR",P12="DQ"),"L",IF(OR(OFFSET($F12,0,(R12-1)*10)="NCR",OFFSET($F12,0,(R12-1)*10)="DQ"),"W",IF(OFFSET($G12,0,(R12-1)*10)="","",IF(Q12=OFFSET($G12,0,(R12-1)*10),"D",IF(Q12<OFFSET($G12,0,(R12-1)*10),"L","W"))))))) | U12: =IF(T12="","",IF(T12="D",1,IF(T12="W",2,0))) | V12: =IF(U12="","",SUM(U$6:U12)) | X12: =IF(OR($AB$29,Scores!$H$1<$C$12),"",Scores!$M$26) | Y12: =IF(OR($AB$29,Scores!$H$1<$C$12),"",Scores!$N$26) | Z12: =IF(X12="","",IF(X12="N","NCR",IF(X12="D","DQ",Scores!$O$26))) | AA12: =IF($AB$29,0,IF(OR(Z12="NCR",Z12="DQ"),-5000,IF(Z12="","",(Z12-$AE$3)/(200-$AE$3)*100))) | AB12: 4 | AC12: =IF(OR($H$29,Z12=""),"",IF(Z12="NCR",0,Z12)+IF($C12=1,0,AC10)) | AD12: =IF(Scores!$H$1<$C12,"",IF(AA12="","",IF(OR(Z12="NCR",Z12="DQ"),"L",IF(OR(OFFSET($F12,0,(AB12-1)*10)="NCR",OFFSET($F12,0,(AB12-1)*10)="DQ"),"W",IF(OFFSET($G12,0,(AB12-1)*10)="","",IF(AA12=OFFSET($G12,0,(AB12-1)*10),"D",IF(AA12<OFFSET($G12,0,(AB12-1)*10),"L","W"))))))) | AE12: =IF(AD12="","",IF(AD12="D",1,IF(AD12="W",2,0))) | AF12: =IF(AE12="","",SUM(AE$6:AE12)) | AH12: =IF(OR($AL$29,Scores!$H$1<$C$12),"",Scores!$M$28) | AI12: =IF(OR($AL$29,Scores!$H$1<$C$12),"",Scores!$N$28) | AJ12: =IF(AH12="","",IF(AH12="N","NCR",IF(AH12="D","DQ",Scores!$O$28))) | AK12: =IF($AL$29,0,IF(OR(AJ12="NCR",AJ12="DQ"),-5000,IF(AJ12="","",(AJ12-$AO$3)/(200-$AO$3)*100))) | AL12: 3 | AM12: =IF(OR($H$29,AJ12=""),"",IF(AJ12="NCR",0,AJ12)+IF($C12=1,0,AM10)) | AN12: =IF(Scores!$H$1<$C12,"",IF(AK12="","",IF(OR(AJ12="NCR",AJ12="DQ"),"L",IF(OR(OFFSET($F12,0,(AL12-1)*10)="NCR",OFFSET($F12,0,(AL12-1)*10)="DQ"),"W",IF(OFFSET($G12,0,(AL12-1)*10)="","",IF(AK12=OFFSET($G12,0,(AL12-1)*10),"D",IF(AK12<OFFSET($G12,0,(AL12-1)*10),"L","W"))))))) | AO12: =IF(AN12="","",IF(AN12="D",1,IF(AN12="W",2,0))) | AP12: =IF(AO12="","",SUM(AO$6:AO12)) | AR12: =IF(OR($AV$29,Scores!$H$1<$C$12),"",Scores!$M$30) | AS12: =IF(OR($AV$29,Scores!$H$1<$C$12),"",Scores!$N$30) | AT12: =IF(AR12="","",IF(AR12="N","NCR",IF(AR12="D","DQ",Scores!$O$30))) | AU12: =IF($AV$29,0,IF(OR(AT12="NCR",AT12="DQ"),-5000,IF(AT12="","",(AT12-$AY$3)/(200-$AY$3)*100))) | AV12: 1 | AW12: =IF(OR($H$29,AT12=""),"",IF(AT12="NCR",0,AT12)+IF($C12=1,0,AW10)) | AX12: =IF(Scores!$H$1<$C12,"",IF(AU12="","",IF(OR(AT12="NCR",AT12="DQ"),"L",IF(OR(OFFSET($F12,0,(AV12-1)*10)="NCR",OFFSET($F12,0,(AV12-1)*10)="DQ"),"W",IF(OFFSET($G12,0,(AV12-1)*10)="","",IF(AU12=OFFSET($G12,0,(AV12-1)*10),"D",IF(AU12<OFFSET($G12,0,(AV12-1)*10),"L","W"))))))) | AY12: =IF(AX12="","",IF(AX12="D",1,IF(AX12="W",2,0))) | AZ12: =IF(AY12="","",SUM(AY$6:AY12)) | BB12: =IF(OR($BF$29,Scores!$H$1<$C$12),"",Scores!$M$32) | BC12: =IF(OR($BF$29,Scores!$H$1<$C$12),"",Scores!$N$32) | BD12: =IF(BB12="","",IF(BB12="N","NCR",IF(BB12="D","DQ",Scores!$O$32))) | BE12: =IF($BF$29,0,IF(OR(BD12="NCR",BD12="DQ"),-5000,IF(BD12="","",(BD12-$BI$3)/(200-$BI$3)*100))) | BF12: 2 | BG12: =IF(OR($H$29,BD12=""),"",IF(BD12="NCR",0,BD12)+IF($C12=1,0,BG10)) | BH12: =IF(Scores!$H$1<$C12,"",IF(BE12="","",IF(OR(BD12="NCR",BD12="DQ"),"L",IF(OR(OFFSET($F12,0,(BF12-1)*10)="NCR",OFFSET($F12,0,(BF12-1)*10)="DQ"),"W",IF(OFFSET($G12,0,(BF12-1)*10)="","",IF(BE12=OFFSET($G12,0,(BF12-1)*10),"D",IF(BE12<OFFSET($G12,0,(BF12-1)*10),"L","W"))))))) | BI12: =IF(BH12="","",IF(BH12="D",1,IF(BH12="W",2,0))) | BJ12: =IF(BI12="","",SUM(BI$6:BI12))
D13: =IF(OR($H$29,Scores!$H$1<$C$12),"",Scores!$M$23) | E13: =IF(OR($H$29,Scores!$H$1<$C$12),"",Scores!$N$23) | N13: =IF(OR($R$29,Scores!$H$1<$C$12),"",Scores!$M$25) | O13: =IF(OR($R$29,Scores!$H$1<$C$12),"",Scores!$N$25) | X13: =IF(OR($AB$29,Scores!$H$1<$C$12),"",Scores!$M$27) | Y13: =IF(OR($AB$29,Scores!$H$1<$C$12),"",Scores!$N$27) | AH13: =IF(OR($AL$29,Scores!$H$1<$C$12),"",Scores!$M$29) | AI13: =IF(OR($AL$29,Scores!$H$1<$C$12),"",Scores!$N$29) | AR13: =IF(OR($AV$29,Scores!$H$1<$C$12),"",Scores!$M$31) | AS13: =IF(OR($AV$29,Scores!$H$1<$C$12),"",Scores!$N$31) | BB13: =IF(OR($BF$29,Scores!$H$1<$C$12),"",Scores!$M$33) | BC13: =IF(OR($BF$29,Scores!$H$1<$C$12),"",Scores!$N$33)
B14: =Scores!$P$18 -> 46372 | C14: 5 | D14: =IF(OR($H$29,Scores!$H$1<$C$14),"",Scores!$P$22) | E14: =IF(OR($H$29,Scores!$H$1<$C$14),"",Scores!$Q$22) | F14: =IF(D14="","",IF(D14="N","NCR",IF(D14="D","DQ",Scores!$R$22))) | G14: =IF($H$29,0,IF(OR(F14="NCR",F14="DQ"),-5000,IF(F14="","",(F14-$K$3)/(200-$K$3)*100))) | H14: 6 | I14: =IF(OR($H$29,F14=""),"",IF(F14="NCR",0,F14)+IF($C14=1,0,I12)) | J14: =IF(Scores!$H$1<$C14,"",IF(G14="","",IF(OR(F14="NCR",F14="DQ"),"L",IF(OR(OFFSET($F14,0,(H14-1)*10)="NCR",OFFSET($F14,0,(H14-1)*10)="DQ"),"W",IF(OFFSET($G14,0,(H14-1)*10)="","",IF(G14=OFFSET($G14,0,(H14-1)*10),"D",IF(G14<OFFSET($G14,0,(H14-1)*10),"L","W"))))))) | K14: =IF(F14="","",IF(J14="D",1,IF(J14="W",2,0))) | L14: =IF(K14="","",SUM(K$6:K14)) | N14: =IF(OR($R$29,Scores!$H$1<$C$14),"",Scores!$P$24) | O14: =IF(OR($R$29,Scores!$H$1<$C$14),"",Scores!$Q$24) | P14: =IF(N14="","",IF(N14="N","NCR",IF(N14="D","DQ",Scores!$R$24))) | Q14: =IF($R$29,0,IF(OR(P14="NCR",P14="DQ"),-5000,IF(P14="","",(P14-$U$3)/(200-$U$3)*100))) | R14: 3 | S14: =IF(OR($H$29,P14=""),"",IF(P14="NCR",0,P14)+IF($C14=1,0,S12)) | T14: =IF(Scores!$H$1<$C14,"",IF(Q14="","",IF(OR(P14="NCR",P14="DQ"),"L",IF(OR(OFFSET($F14,0,(R14-1)*10)="NCR",OFFSET($F14,0,(R14-1)*10)="DQ"),"W",IF(OFFSET($G14,0,(R14-1)*10)="","",IF(Q14=OFFSET($G14,0,(R14-1)*10),"D",IF(Q14<OFFSET($G14,0,(R14-1)*10),"L","W"))))))) | U14: =IF(T14="","",IF(T14="D",1,IF(T14="W",2,0))) | V14: =IF(U14="","",SUM(U$6:U14)) | X14: =IF(OR($AB$29,Scores!$H$1<$C$14),"",Scores!$P$26) | Y14: =IF(OR($AB$29,Scores!$H$1<$C$14),"",Scores!$Q$26) | Z14: =IF(X14="","",IF(X14="N","NCR",IF(X14="D","DQ",Scores!$R$26))) | AA14: =IF($AB$29,0,IF(OR(Z14="NCR",Z14="DQ"),-5000,IF(Z14="","",(Z14-$AE$3)/(200-$AE$3)*100))) | AB14: 2 | AC14: =IF(OR($H$29,Z14=""),"",IF(Z14="NCR",0,Z14)+IF($C14=1,0,AC12)) | AD14: =IF(Scores!$H$1<$C14,"",IF(AA14="","",IF(OR(Z14="NCR",Z14="DQ"),"L",IF(OR(OFFSET($F14,0,(AB14-1)*10)="NCR",OFFSET($F14,0,(AB14-1)*10)="DQ"),"W",IF(OFFSET($G14,0,(AB14-1)*10)="","",IF(AA14=OFFSET($G14,0,(AB14-1)*10),"D",IF(AA14<OFFSET($G14,0,(AB14-1)*10),"L","W"))))))) | AE14: =IF(AD14="","",IF(AD14="D",1,IF(AD14="W",2,0))) | AF14: =IF(AE14="","",SUM(AE$6:AE14)) | AH14: =IF(OR($AL$29,Scores!$H$1<$C$14),"",Scores!$P$28) | AI14: =IF(OR($AL$29,Scores!$H$1<$C$14),"",Scores!$Q$28) | AJ14: =IF(AH14="","",IF(AH14="N","NCR",IF(AH14="D","DQ",Scores!$R$28))) | AK14: =IF($AL$29,0,IF(OR(AJ14="NCR",AJ14="DQ"),-5000,IF(AJ14="","",(AJ14-$AO$3)/(200-$AO$3)*100))) | AL14: 5 | AM14: =IF(OR($H$29,AJ14=""),"",IF(AJ14="NCR",0,AJ14)+IF($C14=1,0,AM12)) | AN14: =IF(Scores!$H$1<$C14,"",IF(AK14="","",IF(OR(AJ14="NCR",AJ14="DQ"),"L",IF(OR(OFFSET($F14,0,(AL14-1)*10)="NCR",OFFSET($F14,0,(AL14-1)*10)="DQ"),"W",IF(OFFSET($G14,0,(AL14-1)*10)="","",IF(AK14=OFFSET($G14,0,(AL14-1)*10),"D",IF(AK14<OFFSET($G14,0,(AL14-1)*10),"L","W"))))))) | AO14: =IF(AN14="","",IF(AN14="D",1,IF(AN14="W",2,0))) | AP14: =IF(AO14="","",SUM(AO$6:AO14)) | AR14: =IF(OR($AV$29,Scores!$H$1<$C$14),"",Scores!$P$30) | AS14: =IF(OR($AV$29,Scores!$H$1<$C$14),"",Scores!$Q$30) | AT14: =IF(AR14="","",IF(AR14="N","NCR",IF(AR14="D","DQ",Scores!$R$30))) | AU14: =IF($AV$29,0,IF(OR(AT14="NCR",AT14="DQ"),-5000,IF(AT14="","",(AT14-$AY$3)/(200-$AY$3)*100))) | AV14: 4 | AW14: =IF(OR($H$29,AT14=""),"",IF(AT14="NCR",0,AT14)+IF($C14=1,0,AW12)) | AX14: =IF(Scores!$H$1<$C14,"",IF(AU14="","",IF(OR(AT14="NCR",AT14="DQ"),"L",IF(OR(OFFSET($F14,0,(AV14-1)*10)="NCR",OFFSET($F14,0,(AV14-1)*10)="DQ"),"W",IF(OFFSET($G14,0,(AV14-1)*10)="","",IF(AU14=OFFSET($G14,0,(AV14-1)*10),"D",IF(AU14<OFFSET($G14,0,(AV14-1)*10),"L","W"))))))) | AY14: =IF(AX14="","",IF(AX14="D",1,IF(AX14="W",2,0))) | AZ14: =IF(AY14="","",SUM(AY$6:AY14)) | BB14: =IF(OR($BF$29,Scores!$H$1<$C$14),"",Scores!$P$32) | BC14: =IF(OR($BF$29,Scores!$H$1<$C$14),"",Scores!$Q$32) | BD14: =IF(BB14="","",IF(BB14="N","NCR",IF(BB14="D","DQ",Scores!$R$32))) | BE14: =IF($BF$29,0,IF(OR(BD14="NCR",BD14="DQ"),-5000,IF(BD14="","",(BD14-$BI$3)/(200-$BI$3)*100))) | BF14: 1 | BG14: =IF(OR($H$29,BD14=""),"",IF(BD14="NCR",0,BD14)+IF($C14=1,0,BG12)) | BH14: =IF(Scores!$H$1<$C14,"",IF(BE14="","",IF(OR(BD14="NCR",BD14="DQ"),"L",IF(OR(OFFSET($F14,0,(BF14-1)*10)="NCR",OFFSET($F14,0,(BF14-1)*10)="DQ"),"W",IF(OFFSET($G14,0,(BF14-1)*10)="","",IF(BE14=OFFSET($G14,0,(BF14-1)*10),"D",IF(BE14<OFFSET($G14,0,(BF14-1)*10),"L","W"))))))) | BI14: =IF(BH14="","",IF(BH14="D",1,IF(BH14="W",2,0))) | BJ14: =IF(BI14="","",SUM(BI$6:BI14))
D15: =IF(OR($H$29,Scores!$H$1<$C$14),"",Scores!$P$23) | E15: =IF(OR($H$29,Scores!$H$1<$C$14),"",Scores!$Q$23) | N15: =IF(OR($R$29,Scores!$H$1<$C$14),"",Scores!$P$25) | O15: =IF(OR($R$29,Scores!$H$1<$C$14),"",Scores!$Q$25) | X15: =IF(OR($AB$29,Scores!$H$1<$C$14),"",Scores!$P$27) | Y15: =IF(OR($AB$29,Scores!$H$1<$C$14),"",Scores!$Q$27) | AH15: =IF(OR($AL$29,Scores!$H$1<$C$14),"",Scores!$P$29) | AI15: =IF(OR($AL$29,Scores!$H$1<$C$14),"",Scores!$Q$29) | AR15: =IF(OR($AV$29,Scores!$H$1<$C$14),"",Scores!$P$31) | AS15: =IF(OR($AV$29,Scores!$H$1<$C$14),"",Scores!$Q$31) | BB15: =IF(OR($BF$29,Scores!$H$1<$C$14),"",Scores!$P$33) | BC15: =IF(OR($BF$29,Scores!$H$1<$C$14),"",Scores!$Q$33)
B16: =Scores!$S$18 -> 46393 | C16: 6 | D16: =IF(OR($H$29,Scores!$H$1<$C$16),"",Scores!$S$22) | E16: =IF(OR($H$29,Scores!$H$1<$C$16),"",Scores!$T$22) | F16: =IF(D16="","",IF(D16="N","NCR",IF(D16="D","DQ",Scores!$U$22))) | G16: =IF($H$29,0,IF(OR(F16="NCR",F16="DQ"),-5000,IF(F16="","",(F16-$K$3)/(200-$K$3)*100))) | H16: 2 | I16: =IF(OR($H$29,F16=""),"",IF(F16="NCR",0,F16)+IF($C16=1,0,I14)) | J16: =IF(Scores!$H$1<$C16,"",IF(G16="","",IF(OR(F16="NCR",F16="DQ"),"L",IF(OR(OFFSET($F16,0,(H16-1)*10)="NCR",OFFSET($F16,0,(H16-1)*10)="DQ"),"W",IF(OFFSET($G16,0,(H16-1)*10)="","",IF(G16=OFFSET($G16,0,(H16-1)*10),"D",IF(G16<OFFSET($G16,0,(H16-1)*10),"L","W"))))))) | K16: =IF(F16="","",IF(J16="D",1,IF(J16="W",2,0))) | L16: =IF(K16="","",SUM(K$6:K16)) | N16: =IF(OR($R$29,Scores!$H$1<$C$16),"",Scores!$S$24) | O16: =IF(OR($R$29,Scores!$H$1<$C$16),"",Scores!$T$24) | P16: =IF(N16="","",IF(N16="N","NCR",IF(N16="D","DQ",Scores!$U$24))) | Q16: =IF($R$29,0,IF(OR(P16="NCR",P16="DQ"),-5000,IF(P16="","",(P16-$U$3)/(200-$U$3)*100))) | R16: 1 | S16: =IF(OR($H$29,P16=""),"",IF(P16="NCR",0,P16)+IF($C16=1,0,S14)) | T16: =IF(Scores!$H$1<$C16,"",IF(Q16="","",IF(OR(P16="NCR",P16="DQ"),"L",IF(OR(OFFSET($F16,0,(R16-1)*10)="NCR",OFFSET($F16,0,(R16-1)*10)="DQ"),"W",IF(OFFSET($G16,0,(R16-1)*10)="","",IF(Q16=OFFSET($G16,0,(R16-1)*10),"D",IF(Q16<OFFSET($G16,0,(R16-1)*10),"L","W"))))))) | U16: =IF(T16="","",IF(T16="D",1,IF(T16="W",2,0))) | V16: =IF(U16="","",SUM(U$6:U16)) | X16: =IF(OR($AB$29,Scores!$H$1<$C$16),"",Scores!$S$26) | Y16: =IF(OR($AB$29,Scores!$H$1<$C$16),"",Scores!$T$26) | Z16: =IF(X16="","",IF(X16="N","NCR",IF(X16="D","DQ",Scores!$U$26))) | AA16: =IF($AB$29,0,IF(OR(Z16="NCR",Z16="DQ"),-5000,IF(Z16="","",(Z16-$AE$3)/(200-$AE$3)*100))) | AB16: 5 | AC16: =IF(OR($H$29,Z16=""),"",IF(Z16="NCR",0,Z16)+IF($C16=1,0,AC14)) | AD16: =IF(Scores!$H$1<$C16,"",IF(AA16="","",IF(OR(Z16="NCR",Z16="DQ"),"L",IF(OR(OFFSET($F16,0,(AB16-1)*10)="NCR",OFFSET($F16,0,(AB16-1)*10)="DQ"),"W",IF(OFFSET($G16,0,(AB16-1)*10)="","",IF(AA16=OFFSET($G16,0,(AB16-1)*10),"D",IF(AA16<OFFSET($G16,0,(AB16-1)*10),"L","W"))))))) | AE16: =IF(AD16="","",IF(AD16="D",1,IF(AD16="W",2,0))) | AF16: =IF(AE16="","",SUM(AE$6:AE16)) | AH16: =IF(OR($AL$29,Scores!$H$1<$C$16),"",Scores!$S$28) | AI16: =IF(OR($AL$29,Scores!$H$1<$C$16),"",Scores!$T$28) | AJ16: =IF(AH16="","",IF(AH16="N","NCR",IF(AH16="D","DQ",Scores!$U$28))) | AK16: =IF($AL$29,0,IF(OR(AJ16="NCR",AJ16="DQ"),-5000,IF(AJ16="","",(AJ16-$AO$3)/(200-$AO$3)*100))) | AL16: 6 | AM16: =IF(OR($H$29,AJ16=""),"",IF(AJ16="NCR",0,AJ16)+IF($C16=1,0,AM14)) | AN16: =IF(Scores!$H$1<$C16,"",IF(AK16="","",IF(OR(AJ16="NCR",AJ16="DQ"),"L",IF(OR(OFFSET($F16,0,(AL16-1)*10)="NCR",OFFSET($F16,0,(AL16-1)*10)="DQ"),"W",IF(OFFSET($G16,0,(AL16-1)*10)="","",IF(AK16=OFFSET($G16,0,(AL16-1)*10),"D",IF(AK16<OFFSET($G16,0,(AL16-1)*10),"L","W"))))))) | AO16: =IF(AN16="","",IF(AN16="D",1,IF(AN16="W",2,0))) | AP16: =IF(AO16="","",SUM(AO$6:AO16)) | AR16: =IF(OR($AV$29,Scores!$H$1<$C$16),"",Scores!$S$30) | AS16: =IF(OR($AV$29,Scores!$H$1<$C$16),"",Scores!$T$30) | AT16: =IF(AR16="","",IF(AR16="N","NCR",IF(AR16="D","DQ",Scores!$U$30))) | AU16: =IF($AV$29,0,IF(OR(AT16="NCR",AT16="DQ"),-5000,IF(AT16="","",(AT16-$AY$3)/(200-$AY$3)*100))) | AV16: 3 | AW16: =IF(OR($H$29,AT16=""),"",IF(AT16="NCR",0,AT16)+IF($C16=1,0,AW14)) | AX16: =IF(Scores!$H$1<$C16,"",IF(AU16="","",IF(OR(AT16="NCR",AT16="DQ"),"L",IF(OR(OFFSET($F16,0,(AV16-1)*10)="NCR",OFFSET($F16,0,(AV16-1)*10)="DQ"),"W",IF(OFFSET($G16,0,(AV16-1)*10)="","",IF(AU16=OFFSET($G16,0,(AV16-1)*10),"D",IF(AU16<OFFSET($G16,0,(AV16-1)*10),"L","W"))))))) | AY16: =IF(AX16="","",IF(AX16="D",1,IF(AX16="W",2,0))) | AZ16: =IF(AY16="","",SUM(AY$6:AY16)) | BB16: =IF(OR($BF$29,Scores!$H$1<$C$16),"",Scores!$S$32) | BC16: =IF(OR($BF$29,Scores!$H$1<$C$16),"",Scores!$T$32) | BD16: =IF(BB16="","",IF(BB16="N","NCR",IF(BB16="D","DQ",Scores!$U$32))) | BE16: =IF($BF$29,0,IF(OR(BD16="NCR",BD16="DQ"),-5000,IF(BD16="","",(BD16-$BI$3)/(200-$BI$3)*100))) | BF16: 4 | BG16: =IF(OR($H$29,BD16=""),"",IF(BD16="NCR",0,BD16)+IF($C16=1,0,BG14)) | BH16: =IF(Scores!$H$1<$C16,"",IF(BE16="","",IF(OR(BD16="NCR",BD16="DQ"),"L",IF(OR(OFFSET($F16,0,(BF16-1)*10)="NCR",OFFSET($F16,0,(BF16-1)*10)="DQ"),"W",IF(OFFSET($G16,0,(BF16-1)*10)="","",IF(BE16=OFFSET($G16,0,(BF16-1)*10),"D",IF(BE16<OFFSET($G16,0,(BF16-1)*10),"L","W"))))))) | BI16: =IF(BH16="","",IF(BH16="D",1,IF(BH16="W",2,0))) | BJ16: =IF(BI16="","",SUM(BI$6:BI16))
D17: =IF(OR($H$29,Scores!$H$1<$C$16),"",Scores!$S$23) | E17: =IF(OR($H$29,Scores!$H$1<$C$16),"",Scores!$T$23) | N17: =IF(OR($R$29,Scores!$H$1<$C$16),"",Scores!$S$25) | O17: =IF(OR($R$29,Scores!$H$1<$C$16),"",Scores!$T$25) | X17: =IF(OR($AB$29,Scores!$H$1<$C$16),"",Scores!$S$27) | Y17: =IF(OR($AB$29,Scores!$H$1<$C$16),"",Scores!$T$27) | AH17: =IF(OR($AL$29,Scores!$H$1<$C$16),"",Scores!$S$29) | AI17: =IF(OR($AL$29,Scores!$H$1<$C$16),"",Scores!$T$29) | AR17: =IF(OR($AV$29,Scores!$H$1<$C$16),"",Scores!$S$31) | AS17: =IF(OR($AV$29,Scores!$H$1<$C$16),"",Scores!$T$31) | BB17: =IF(OR($BF$29,Scores!$H$1<$C$16),"",Scores!$S$33) | BC17: =IF(OR($BF$29,Scores!$H$1<$C$16),"",Scores!$T$33)
B18: =Scores!$V$18 -> 46407 | C18: 7 | D18: =IF(OR($H$29,Scores!$H$1<$C$18),"",Scores!$V$22) | E18: =IF(OR($H$29,Scores!$H$1<$C$18),"",Scores!$W$22) | F18: =IF(D18="","",IF(D18="N","NCR",IF(D18="D","DQ",Scores!$X$22))) | G18: =IF($H$29,0,IF(OR(F18="NCR",F18="DQ"),-5000,IF(F18="","",(F18-$K$3)/(200-$K$3)*100))) | H18: 3 | I18: =IF(OR($H$29,F18=""),"",IF(F18="NCR",0,F18)+IF($C18=1,0,I16)) | J18: =IF(Scores!$H$1<$C18,"",IF(G18="","",IF(OR(F18="NCR",F18="DQ"),"L",IF(OR(OFFSET($F18,0,(H18-1)*10)="NCR",OFFSET($F18,0,(H18-1)*10)="DQ"),"W",IF(OFFSET($G18,0,(H18-1)*10)="","",IF(G18=OFFSET($G18,0,(H18-1)*10),"D",IF(G18<OFFSET($G18,0,(H18-1)*10),"L","W"))))))) | K18: =IF(F18="","",IF(J18="D",1,IF(J18="W",2,0))) | L18: =IF(K18="","",SUM(K$6:K18)) | N18: =IF(OR($R$29,Scores!$H$1<$C$18),"",Scores!$V$24) | O18: =IF(OR($R$29,Scores!$H$1<$C$18),"",Scores!$W$24) | P18: =IF(N18="","",IF(N18="N","NCR",IF(N18="D","DQ",Scores!$X$24))) | Q18: =IF($R$29,0,IF(OR(P18="NCR",P18="DQ"),-5000,IF(P18="","",(P18-$U$3)/(200-$U$3)*100))) | R18: 4 | S18: =IF(OR($H$29,P18=""),"",IF(P18="NCR",0,P18)+IF($C18=1,0,S16)) | T18: =IF(Scores!$H$1<$C18,"",IF(Q18="","",IF(OR(P18="NCR",P18="DQ"),"L",IF(OR(OFFSET($F18,0,(R18-1)*10)="NCR",OFFSET($F18,0,(R18-1)*10)="DQ"),"W",IF(OFFSET($G18,0,(R18-1)*10)="","",IF(Q18=OFFSET($G18,0,(R18-1)*10),"D",IF(Q18<OFFSET($G18,0,(R18-1)*10),"L","W"))))))) | U18: =IF(T18="","",IF(T18="D",1,IF(T18="W",2,0))) | V18: =IF(U18="","",SUM(U$6:U18)) | X18: =IF(OR($AB$29,Scores!$H$1<$C$18),"",Scores!$V$26) | Y18: =IF(OR($AB$29,Scores!$H$1<$C$18),"",Scores!$W$26) | Z18: =IF(X18="","",IF(X18="N","NCR",IF(X18="D","DQ",Scores!$X$26))) | AA18: =IF($AB$29,0,IF(OR(Z18="NCR",Z18="DQ"),-5000,IF(Z18="","",(Z18-$AE$3)/(200-$AE$3)*100))) | AB18: 1 | AC18: =IF(OR($H$29,Z18=""),"",IF(Z18="NCR",0,Z18)+IF($C18=1,0,AC16)) | AD18: =IF(Scores!$H$1<$C18,"",IF(AA18="","",IF(OR(Z18="NCR",Z18="DQ"),"L",IF(OR(OFFSET($F18,0,(AB18-1)*10)="NCR",OFFSET($F18,0,(AB18-1)*10)="DQ"),"W",IF(OFFSET($G18,0,(AB18-1)*10)="","",IF(AA18=OFFSET($G18,0,(AB18-1)*10),"D",IF(AA18<OFFSET($G18,0,(AB18-1)*10),"L","W"))))))) | AE18: =IF(AD18="","",IF(AD18="D",1,IF(AD18="W",2,0))) | AF18: =IF(AE18="","",SUM(AE$6:AE18)) | AH18: =IF(OR($AL$29,Scores!$H$1<$C$18),"",Scores!$V$28) | AI18: =IF(OR($AL$29,Scores!$H$1<$C$18),"",Scores!$W$28) | AJ18: =IF(AH18="","",IF(AH18="N","NCR",IF(AH18="D","DQ",Scores!$X$28))) | AK18: =IF($AL$29,0,IF(OR(AJ18="NCR",AJ18="DQ"),-5000,IF(AJ18="","",(AJ18-$AO$3)/(200-$AO$3)*100))) | AL18: 2 | AM18: =IF(OR($H$29,AJ18=""),"",IF(AJ18="NCR",0,AJ18)+IF($C18=1,0,AM16)) | AN18: =IF(Scores!$H$1<$C18,"",IF(AK18="","",IF(OR(AJ18="NCR",AJ18="DQ"),"L",IF(OR(OFFSET($F18,0,(AL18-1)*10)="NCR",OFFSET($F18,0,(AL18-1)*10)="DQ"),"W",IF(OFFSET($G18,0,(AL18-1)*10)="","",IF(AK18=OFFSET($G18,0,(AL18-1)*10),"D",IF(AK18<OFFSET($G18,0,(AL18-1)*10),"L","W"))))))) | AO18: =IF(AN18="","",IF(AN18="D",1,IF(AN18="W",2,0))) | AP18: =IF(AO18="","",SUM(AO$6:AO18)) | AR18: =IF(OR($AV$29,Scores!$H$1<$C$18),"",Scores!$V$30) | AS18: =IF(OR($AV$29,Scores!$H$1<$C$18),"",Scores!$W$30) | AT18: =IF(AR18="","",IF(AR18="N","NCR",IF(AR18="D","DQ",Scores!$X$30))) | AU18: =IF($AV$29,0,IF(OR(AT18="NCR",AT18="DQ"),-5000,IF(AT18="","",(AT18-$AY$3)/(200-$AY$3)*100))) | AV18: 6 | AW18: =IF(OR($H$29,AT18=""),"",IF(AT18="NCR",0,AT18)+IF($C18=1,0,AW16)) | AX18: =IF(Scores!$H$1<$C18,"",IF(AU18="","",IF(OR(AT18="NCR",AT18="DQ"),"L",IF(OR(OFFSET($F18,0,(AV18-1)*10)="NCR",OFFSET($F18,0,(AV18-1)*10)="DQ"),"W",IF(OFFSET($G18,0,(AV18-1)*10)="","",IF(AU18=OFFSET($G18,0,(AV18-1)*10),"D",IF(AU18<OFFSET($G18,0,(AV18-1)*10),"L","W"))))))) | AY18: =IF(AX18="","",IF(AX18="D",1,IF(AX18="W",2,0))) | AZ18: =IF(AY18="","",SUM(AY$6:AY18)) | BB18: =IF(OR($BF$29,Scores!$H$1<$C$18),"",Scores!$V$32) | BC18: =IF(OR($BF$29,Scores!$H$1<$C$18),"",Scores!$W$32) | BD18: =IF(BB18="","",IF(BB18="N","NCR",IF(BB18="D","DQ",Scores!$X$32))) | BE18: =IF($BF$29,0,IF(OR(BD18="NCR",BD18="DQ"),-5000,IF(BD18="","",(BD18-$BI$3)/(200-$BI$3)*100))) | BF18: 5 | BG18: =IF(OR($H$29,BD18=""),"",IF(BD18="NCR",0,BD18)+IF($C18=1,0,BG16)) | BH18: =IF(Scores!$H$1<$C18,"",IF(BE18="","",IF(OR(BD18="NCR",BD18="DQ"),"L",IF(OR(OFFSET($F18,0,(BF18-1)*10)="NCR",OFFSET($F18,0,(BF18-1)*10)="DQ"),"W",IF(OFFSET($G18,0,(BF18-1)*10)="","",IF(BE18=OFFSET($G18,0,(BF18-1)*10),"D",IF(BE18<OFFSET($G18,0,(BF18-1)*10),"L","W"))))))) | BI18: =IF(BH18="","",IF(BH18="D",1,IF(BH18="W",2,0))) | BJ18: =IF(BI18="","",SUM(BI$6:BI18))
D19: =IF(OR($H$29,Scores!$H$1<$C$18),"",Scores!$V$23) | E19: =IF(OR($H$29,Scores!$H$1<$C$18),"",Scores!$W$23) | N19: =IF(OR($R$29,Scores!$H$1<$C$18),"",Scores!$V$25) | O19: =IF(OR($R$29,Scores!$H$1<$C$18),"",Scores!$W$25) | X19: =IF(OR($AB$29,Scores!$H$1<$C$18),"",Scores!$V$27) | Y19: =IF(OR($AB$29,Scores!$H$1<$C$18),"",Scores!$W$27) | AH19: =IF(OR($AL$29,Scores!$H$1<$C$18),"",Scores!$V$29) | AI19: =IF(OR($AL$29,Scores!$H$1<$C$18),"",Scores!$W$29) | AR19: =IF(OR($AV$29,Scores!$H$1<$C$18),"",Scores!$V$31) | AS19: =IF(OR($AV$29,Scores!$H$1<$C$18),"",Scores!$W$31) | BB19: =IF(OR($BF$29,Scores!$H$1<$C$18),"",Scores!$V$33) | BC19: =IF(OR($BF$29,Scores!$H$1<$C$18),"",Scores!$W$33)
B20: =Scores!$Y$18 -> 46421 | C20: 8 | D20: =IF(OR($H$29,Scores!$H$1<$C$20),"",Scores!$Y$22) | E20: =IF(OR($H$29,Scores!$H$1<$C$20),"",Scores!$Z$22) | F20: =IF(D20="","",IF(D20="N","NCR",IF(D20="D","DQ",Scores!$AA$22))) | G20: =IF($H$29,0,IF(OR(F20="NCR",F20="DQ"),-5000,IF(F20="","",(F20-$K$3)/(200-$K$3)*100))) | H20: 4 | I20: =IF(OR($H$29,F20=""),"",IF(F20="NCR",0,F20)+IF($C20=1,0,I18)) | J20: =IF(Scores!$H$1<$C20,"",IF(G20="","",IF(OR(F20="NCR",F20="DQ"),"L",IF(OR(OFFSET($F20,0,(H20-1)*10)="NCR",OFFSET($F20,0,(H20-1)*10)="DQ"),"W",IF(OFFSET($G20,0,(H20-1)*10)="","",IF(G20=OFFSET($G20,0,(H20-1)*10),"D",IF(G20<OFFSET($G20,0,(H20-1)*10),"L","W"))))))) | K20: =IF(F20="","",IF(J20="D",1,IF(J20="W",2,0))) | L20: =IF(K20="","",SUM(K$6:K20)) | N20: =IF(OR($R$29,Scores!$H$1<$C$20),"",Scores!$Y$24) | O20: =IF(OR($R$29,Scores!$H$1<$C$20),"",Scores!$Z$24) | P20: =IF(N20="","",IF(N20="N","NCR",IF(N20="D","DQ",Scores!$AA$24))) | Q20: =IF($R$29,0,IF(OR(P20="NCR",P20="DQ"),-5000,IF(P20="","",(P20-$U$3)/(200-$U$3)*100))) | R20: 5 | S20: =IF(OR($H$29,P20=""),"",IF(P20="NCR",0,P20)+IF($C20=1,0,S18)) | T20: =IF(Scores!$H$1<$C20,"",IF(Q20="","",IF(OR(P20="NCR",P20="DQ"),"L",IF(OR(OFFSET($F20,0,(R20-1)*10)="NCR",OFFSET($F20,0,(R20-1)*10)="DQ"),"W",IF(OFFSET($G20,0,(R20-1)*10)="","",IF(Q20=OFFSET($G20,0,(R20-1)*10),"D",IF(Q20<OFFSET($G20,0,(R20-1)*10),"L","W"))))))) | U20: =IF(T20="","",IF(T20="D",1,IF(T20="W",2,0))) | V20: =IF(U20="","",SUM(U$6:U20)) | X20: =IF(OR($AB$29,Scores!$H$1<$C$20),"",Scores!$Y$26) | Y20: =IF(OR($AB$29,Scores!$H$1<$C$20),"",Scores!$Z$26) | Z20: =IF(X20="","",IF(X20="N","NCR",IF(X20="D","DQ",Scores!$AA$26))) | AA20: =IF($AB$29,0,IF(OR(Z20="NCR",Z20="DQ"),-5000,IF(Z20="","",(Z20-$AE$3)/(200-$AE$3)*100))) | AB20: 6 | AC20: =IF(OR($H$29,Z20=""),"",IF(Z20="NCR",0,Z20)+IF($C20=1,0,AC18)) | AD20: =IF(Scores!$H$1<$C20,"",IF(AA20="","",IF(OR(Z20="NCR",Z20="DQ"),"L",IF(OR(OFFSET($F20,0,(AB20-1)*10)="NCR",OFFSET($F20,0,(AB20-1)*10)="DQ"),"W",IF(OFFSET($G20,0,(AB20-1)*10)="","",IF(AA20=OFFSET($G20,0,(AB20-1)*10),"D",IF(AA20<OFFSET($G20,0,(AB20-1)*10),"L","W"))))))) | AE20: =IF(AD20="","",IF(AD20="D",1,IF(AD20="W",2,0))) | AF20: =IF(AE20="","",SUM(AE$6:AE20)) | AH20: =IF(OR($AL$29,Scores!$H$1<$C$20),"",Scores!$Y$28) | AI20: =IF(OR($AL$29,Scores!$H$1<$C$20),"",Scores!$Z$28) | AJ20: =IF(AH20="","",IF(AH20="N","NCR",IF(AH20="D","DQ",Scores!$AA$28))) | AK20: =IF($AL$29,0,IF(OR(AJ20="NCR",AJ20="DQ"),-5000,IF(AJ20="","",(AJ20-$AO$3)/(200-$AO$3)*100))) | AL20: 1 | AM20: =IF(OR($H$29,AJ20=""),"",IF(AJ20="NCR",0,AJ20)+IF($C20=1,0,AM18)) | AN20: =IF(Scores!$H$1<$C20,"",IF(AK20="","",IF(OR(AJ20="NCR",AJ20="DQ"),"L",IF(OR(OFFSET($F20,0,(AL20-1)*10)="NCR",OFFSET($F20,0,(AL20-1)*10)="DQ"),"W",IF(OFFSET($G20,0,(AL20-1)*10)="","",IF(AK20=OFFSET($G20,0,(AL20-1)*10),"D",IF(AK20<OFFSET($G20,0,(AL20-1)*10),"L","W"))))))) | AO20: =IF(AN20="","",IF(AN20="D",1,IF(AN20="W",2,0))) | AP20: =IF(AO20="","",SUM(AO$6:AO20)) | AR20: =IF(OR($AV$29,Scores!$H$1<$C$20),"",Scores!$Y$30) | AS20: =IF(OR($AV$29,Scores!$H$1<$C$20),"",Scores!$Z$30) | AT20: =IF(AR20="","",IF(AR20="N","NCR",IF(AR20="D","DQ",Scores!$AA$30))) | AU20: =IF($AV$29,0,IF(OR(AT20="NCR",AT20="DQ"),-5000,IF(AT20="","",(AT20-$AY$3)/(200-$AY$3)*100))) | AV20: 2 | AW20: =IF(OR($H$29,AT20=""),"",IF(AT20="NCR",0,AT20)+IF($C20=1,0,AW18)) | AX20: =IF(Scores!$H$1<$C20,"",IF(AU20="","",IF(OR(AT20="NCR",AT20="DQ"),"L",IF(OR(OFFSET($F20,0,(AV20-1)*10)="NCR",OFFSET($F20,0,(AV20-1)*10)="DQ"),"W",IF(OFFSET($G20,0,(AV20-1)*10)="","",IF(AU20=OFFSET($G20,0,(AV20-1)*10),"D",IF(AU20<OFFSET($G20,0,(AV20-1)*10),"L","W"))))))) | AY20: =IF(AX20="","",IF(AX20="D",1,IF(AX20="W",2,0))) | AZ20: =IF(AY20="","",SUM(AY$6:AY20)) | BB20: =IF(OR($BF$29,Scores!$H$1<$C$20),"",Scores!$Y$32) | BC20: =IF(OR($BF$29,Scores!$H$1<$C$20),"",Scores!$Z$32) | BD20: =IF(BB20="","",IF(BB20="N","NCR",IF(BB20="D","DQ",Scores!$AA$32))) | BE20: =IF($BF$29,0,IF(OR(BD20="NCR",BD20="DQ"),-5000,IF(BD20="","",(BD20-$BI$3)/(200-$BI$3)*100))) | BF20: 3 | BG20: =IF(OR($H$29,BD20=""),"",IF(BD20="NCR",0,BD20)+IF($C20=1,0,BG18)) | BH20: =IF(Scores!$H$1<$C20,"",IF(BE20="","",IF(OR(BD20="NCR",BD20="DQ"),"L",IF(OR(OFFSET($F20,0,(BF20-1)*10)="NCR",OFFSET($F20,0,(BF20-1)*10)="DQ"),"W",IF(OFFSET($G20,0,(BF20-1)*10)="","",IF(BE20=OFFSET($G20,0,(BF20-1)*10),"D",IF(BE20<OFFSET($G20,0,(BF20-1)*10),"L","W"))))))) | BI20: =IF(BH20="","",IF(BH20="D",1,IF(BH20="W",2,0))) | BJ20: =IF(BI20="","",SUM(BI$6:BI20))
D21: =IF(OR($H$29,Scores!$H$1<$C$20),"",Scores!$Y$23) | E21: =IF(OR($H$29,Scores!$H$1<$C$20),"",Scores!$Z$23) | N21: =IF(OR($R$29,Scores!$H$1<$C$20),"",Scores!$Y$25) | O21: =IF(OR($R$29,Scores!$H$1<$C$20),"",Scores!$Z$25) | X21: =IF(OR($AB$29,Scores!$H$1<$C$20),"",Scores!$Y$27) | Y21: =IF(OR($AB$29,Scores!$H$1<$C$20),"",Scores!$Z$27) | AH21: =IF(OR($AL$29,Scores!$H$1<$C$20),"",Scores!$Y$29) | AI21: =IF(OR($AL$29,Scores!$H$1<$C$20),"",Scores!$Z$29) | AR21: =IF(OR($AV$29,Scores!$H$1<$C$20),"",Scores!$Y$31) | AS21: =IF(OR($AV$29,Scores!$H$1<$C$20),"",Scores!$Z$31) | BB21: =IF(OR($BF$29,Scores!$H$1<$C$20),"",Scores!$Y$33) | BC21: =IF(OR($BF$29,Scores!$H$1<$C$20),"",Scores!$Z$33)
B22: =Scores!$AB$18 -> 46435 | C22: 9 | D22: =IF(OR($H$29,Scores!$H$1<$C$22),"",Scores!$AB$22) | E22: =IF(OR($H$29,Scores!$H$1<$C$22),"",Scores!$AC$22) | F22: =IF(D22="","",IF(D22="N","NCR",IF(D22="D","DQ",Scores!$AD$22))) | G22: =IF($H$29,0,IF(OR(F22="NCR",F22="DQ"),-5000,IF(F22="","",(F22-$K$3)/(200-$K$3)*100))) | H22: 5 | I22: =IF(OR($H$29,F22=""),"",IF(F22="NCR",0,F22)+IF($C22=1,0,I20)) | J22: =IF(Scores!$H$1<$C22,"",IF(G22="","",IF(OR(F22="NCR",F22="DQ"),"L",IF(OR(OFFSET($F22,0,(H22-1)*10)="NCR",OFFSET($F22,0,(H22-1)*10)="DQ"),"W",IF(OFFSET($G22,0,(H22-1)*10)="","",IF(G22=OFFSET($G22,0,(H22-1)*10),"D",IF(G22<OFFSET($G22,0,(H22-1)*10),"L","W"))))))) | K22: =IF(F22="","",IF(J22="D",1,IF(J22="W",2,0))) | L22: =IF(K22="","",SUM(K$6:K22)) | N22: =IF(OR($R$29,Scores!$H$1<$C$22),"",Scores!$AB$24) | O22: =IF(OR($R$29,Scores!$H$1<$C$22),"",Scores!$AC$24) | P22: =IF(N22="","",IF(N22="N","NCR",IF(N22="D","DQ",Scores!$AD$24))) | Q22: =IF($R$29,0,IF(OR(P22="NCR",P22="DQ"),-5000,IF(P22="","",(P22-$U$3)/(200-$U$3)*100))) | R22: 6 | S22: =IF(OR($H$29,P22=""),"",IF(P22="NCR",0,P22)+IF($C22=1,0,S20)) | T22: =IF(Scores!$H$1<$C22,"",IF(Q22="","",IF(OR(P22="NCR",P22="DQ"),"L",IF(OR(OFFSET($F22,0,(R22-1)*10)="NCR",OFFSET($F22,0,(R22-1)*10)="DQ"),"W",IF(OFFSET($G22,0,(R22-1)*10)="","",IF(Q22=OFFSET($G22,0,(R22-1)*10),"D",IF(Q22<OFFSET($G22,0,(R22-1)*10),"L","W"))))))) | U22: =IF(T22="","",IF(T22="D",1,IF(T22="W",2,0))) | V22: =IF(U22="","",SUM(U$6:U22)) | X22: =IF(OR($AB$29,Scores!$H$1<$C$22),"",Scores!$AB$26) | Y22: =IF(OR($AB$29,Scores!$H$1<$C$22),"",Scores!$AC$26) | Z22: =IF(X22="","",IF(X22="N","NCR",IF(X22="D","DQ",Scores!$AD$26))) | AA22: =IF($AB$29,0,IF(OR(Z22="NCR",Z22="DQ"),-5000,IF(Z22="","",(Z22-$AE$3)/(200-$AE$3)*100))) | AB22: 4 | AC22: =IF(OR($H$29,Z22=""),"",IF(Z22="NCR",0,Z22)+IF($C22=1,0,AC20)) | AD22: =IF(Scores!$H$1<$C22,"",IF(AA22="","",IF(OR(Z22="NCR",Z22="DQ"),"L",IF(OR(OFFSET($F22,0,(AB22-1)*10)="NCR",OFFSET($F22,0,(AB22-1)*10)="DQ"),"W",IF(OFFSET($G22,0,(AB22-1)*10)="","",IF(AA22=OFFSET($G22,0,(AB22-1)*10),"D",IF(AA22<OFFSET($G22,0,(AB22-1)*10),"L","W"))))))) | AE22: =IF(AD22="","",IF(AD22="D",1,IF(AD22="W",2,0))) | AF22: =IF(AE22="","",SUM(AE$6:AE22)) | AH22: =IF(OR($AL$29,Scores!$H$1<$C$22),"",Scores!$AB$28) | AI22: =IF(OR($AL$29,Scores!$H$1<$C$22),"",Scores!$AC$28) | AJ22: =IF(AH22="","",IF(AH22="N","NCR",IF(AH22="D","DQ",Scores!$AD$28))) | AK22: =IF($AL$29,0,IF(OR(AJ22="NCR",AJ22="DQ"),-5000,IF(AJ22="","",(AJ22-$AO$3)/(200-$AO$3)*100))) | AL22: 3 | AM22: =IF(OR($H$29,AJ22=""),"",IF(AJ22="NCR",0,AJ22)+IF($C22=1,0,AM20)) | AN22: =IF(Scores!$H$1<$C22,"",IF(AK22="","",IF(OR(AJ22="NCR",AJ22="DQ"),"L",IF(OR(OFFSET($F22,0,(AL22-1)*10)="NCR",OFFSET($F22,0,(AL22-1)*10)="DQ"),"W",IF(OFFSET($G22,0,(AL22-1)*10)="","",IF(AK22=OFFSET($G22,0,(AL22-1)*10),"D",IF(AK22<OFFSET($G22,0,(AL22-1)*10),"L","W"))))))) | AO22: =IF(AN22="","",IF(AN22="D",1,IF(AN22="W",2,0))) | AP22: =IF(AO22="","",SUM(AO$6:AO22)) | AR22: =IF(OR($AV$29,Scores!$H$1<$C$22),"",Scores!$AB$30) | AS22: =IF(OR($AV$29,Scores!$H$1<$C$22),"",Scores!$AC$30) | AT22: =IF(AR22="","",IF(AR22="N","NCR",IF(AR22="D","DQ",Scores!$AD$30))) | AU22: =IF($AV$29,0,IF(OR(AT22="NCR",AT22="DQ"),-5000,IF(AT22="","",(AT22-$AY$3)/(200-$AY$3)*100))) | AV22: 1 | AW22: =IF(OR($H$29,AT22=""),"",IF(AT22="NCR",0,AT22)+IF($C22=1,0,AW20)) | AX22: =IF(Scores!$H$1<$C22,"",IF(AU22="","",IF(OR(AT22="NCR",AT22="DQ"),"L",IF(OR(OFFSET($F22,0,(AV22-1)*10)="NCR",OFFSET($F22,0,(AV22-1)*10)="DQ"),"W",IF(OFFSET($G22,0,(AV22-1)*10)="","",IF(AU22=OFFSET($G22,0,(AV22-1)*10),"D",IF(AU22<OFFSET($G22,0,(AV22-1)*10),"L","W"))))))) | AY22: =IF(AX22="","",IF(AX22="D",1,IF(AX22="W",2,0))) | AZ22: =IF(AY22="","",SUM(AY$6:AY22)) | BB22: =IF(OR($BF$29,Scores!$H$1<$C$22),"",Scores!$AB$32) | BC22: =IF(OR($BF$29,Scores!$H$1<$C$22),"",Scores!$AC$32) | BD22: =IF(BB22="","",IF(BB22="N","NCR",IF(BB22="D","DQ",Scores!$AD$32))) | BE22: =IF($BF$29,0,IF(OR(BD22="NCR",BD22="DQ"),-5000,IF(BD22="","",(BD22-$BI$3)/(200-$BI$3)*100))) | BF22: 2 | BG22: =IF(OR($H$29,BD22=""),"",IF(BD22="NCR",0,BD22)+IF($C22=1,0,BG20)) | BH22: =IF(Scores!$H$1<$C22,"",IF(BE22="","",IF(OR(BD22="NCR",BD22="DQ"),"L",IF(OR(OFFSET($F22,0,(BF22-1)*10)="NCR",OFFSET($F22,0,(BF22-1)*10)="DQ"),"W",IF(OFFSET($G22,0,(BF22-1)*10)="","",IF(BE22=OFFSET($G22,0,(BF22-1)*10),"D",IF(BE22<OFFSET($G22,0,(BF22-1)*10),"L","W"))))))) | BI22: =IF(BH22="","",IF(BH22="D",1,IF(BH22="W",2,0))) | BJ22: =IF(BI22="","",SUM(BI$6:BI22))
D23: =IF(OR($H$29,Scores!$H$1<$C$22),"",Scores!$AB$23) | E23: =IF(OR($H$29,Scores!$H$1<$C$22),"",Scores!$AC$23) | N23: =IF(OR($R$29,Scores!$H$1<$C$22),"",Scores!$AB$25) | O23: =IF(OR($R$29,Scores!$H$1<$C$22),"",Scores!$AC$25) | X23: =IF(OR($AB$29,Scores!$H$1<$C$22),"",Scores!$AB$27) | Y23: =IF(OR($AB$29,Scores!$H$1<$C$22),"",Scores!$AC$27) | AH23: =IF(OR($AL$29,Scores!$H$1<$C$22),"",Scores!$AB$29) | AI23: =IF(OR($AL$29,Scores!$H$1<$C$22),"",Scores!$AC$29) | AR23: =IF(OR($AV$29,Scores!$H$1<$C$22),"",Scores!$AB$31) | AS23: =IF(OR($AV$29,Scores!$H$1<$C$22),"",Scores!$AC$31) | BB23: =IF(OR($BF$29,Scores!$H$1<$C$22),"",Scores!$AB$33) | BC23: =IF(OR($BF$29,Scores!$H$1<$C$22),"",Scores!$AC$33)
B24: =Scores!$AE$18 -> 46449 | C24: 10 | D24: =IF(OR($H$29,Scores!$H$1<$C$24),"",Scores!$AE$22) | E24: =IF(OR($H$29,Scores!$H$1<$C$24),"",Scores!$AF$22) | F24: =IF(D24="","",IF(D24="N","NCR",IF(D24="D","DQ",Scores!$AG$22))) | G24: =IF($H$29,0,IF(OR(F24="NCR",F24="DQ"),-5000,IF(F24="","",(F24-$K$3)/(200-$K$3)*100))) | H24: 6 | I24: =IF(OR($H$29,F24=""),"",IF(F24="NCR",0,F24)+IF($C24=1,0,I22)) | J24: =IF(Scores!$H$1<$C24,"",IF(G24="","",IF(OR(F24="NCR",F24="DQ"),"L",IF(OR(OFFSET($F24,0,(H24-1)*10)="NCR",OFFSET($F24,0,(H24-1)*10)="DQ"),"W",IF(OFFSET($G24,0,(H24-1)*10)="","",IF(G24=OFFSET($G24,0,(H24-1)*10),"D",IF(G24<OFFSET($G24,0,(H24-1)*10),"L","W"))))))) | K24: =IF(F24="","",IF(J24="D",1,IF(J24="W",2,0))) | L24: =IF(K24="","",SUM(K$6:K24)) | N24: =IF(OR($R$29,Scores!$H$1<$C$24),"",Scores!$AE$24) | O24: =IF(OR($R$29,Scores!$H$1<$C$24),"",Scores!$AF$24) | P24: =IF(N24="","",IF(N24="N","NCR",IF(N24="D","DQ",Scores!$AG$24))) | Q24: =IF($R$29,0,IF(OR(P24="NCR",P24="DQ"),-5000,IF(P24="","",(P24-$U$3)/(200-$U$3)*100))) | R24: 3 | S24: =IF(OR($H$29,P24=""),"",IF(P24="NCR",0,P24)+IF($C24=1,0,S22)) | T24: =IF(Scores!$H$1<$C24,"",IF(Q24="","",IF(OR(P24="NCR",P24="DQ"),"L",IF(OR(OFFSET($F24,0,(R24-1)*10)="NCR",OFFSET($F24,0,(R24-1)*10)="DQ"),"W",IF(OFFSET($G24,0,(R24-1)*10)="","",IF(Q24=OFFSET($G24,0,(R24-1)*10),"D",IF(Q24<OFFSET($G24,0,(R24-1)*10),"L","W"))))))) | U24: =IF(T24="","",IF(T24="D",1,IF(T24="W",2,0))) | V24: =IF(U24="","",SUM(U$6:U24)) | X24: =IF(OR($AB$29,Scores!$H$1<$C$24),"",Scores!$AE$26) | Y24: =IF(OR($AB$29,Scores!$H$1<$C$24),"",Scores!$AF$26) | Z24: =IF(X24="","",IF(X24="N","NCR",IF(X24="D","DQ",Scores!$AG$26))) | AA24: =IF($AB$29,0,IF(OR(Z24="NCR",Z24="DQ"),-5000,IF(Z24="","",(Z24-$AE$3)/(200-$AE$3)*100))) | AB24: 2 | AC24: =IF(OR($H$29,Z24=""),"",IF(Z24="NCR",0,Z24)+IF($C24=1,0,AC22)) | AD24: =IF(Scores!$H$1<$C24,"",IF(AA24="","",IF(OR(Z24="NCR",Z24="DQ"),"L",IF(OR(OFFSET($F24,0,(AB24-1)*10)="NCR",OFFSET($F24,0,(AB24-1)*10)="DQ"),"W",IF(OFFSET($G24,0,(AB24-1)*10)="","",IF(AA24=OFFSET($G24,0,(AB24-1)*10),"D",IF(AA24<OFFSET($G24,0,(AB24-1)*10),"L","W"))))))) | AE24: =IF(AD24="","",IF(AD24="D",1,IF(AD24="W",2,0))) | AF24: =IF(AE24="","",SUM(AE$6:AE24)) | AH24: =IF(OR($AL$29,Scores!$H$1<$C$24),"",Scores!$AE$28) | AI24: =IF(OR($AL$29,Scores!$H$1<$C$24),"",Scores!$AF$28) | AJ24: =IF(AH24="","",IF(AH24="N","NCR",IF(AH24="D","DQ",Scores!$AG$28))) | AK24: =IF($AL$29,0,IF(OR(AJ24="NCR",AJ24="DQ"),-5000,IF(AJ24="","",(AJ24-$AO$3)/(200-$AO$3)*100))) | AL24: 5 | AM24: =IF(OR($H$29,AJ24=""),"",IF(AJ24="NCR",0,AJ24)+IF($C24=1,0,AM22)) | AN24: =IF(Scores!$H$1<$C24,"",IF(AK24="","",IF(OR(AJ24="NCR",AJ24="DQ"),"L",IF(OR(OFFSET($F24,0,(AL24-1)*10)="NCR",OFFSET($F24,0,(AL24-1)*10)="DQ"),"W",IF(OFFSET($G24,0,(AL24-1)*10)="","",IF(AK24=OFFSET($G24,0,(AL24-1)*10),"D",IF(AK24<OFFSET($G24,0,(AL24-1)*10),"L","W"))))))) | AO24: =IF(AN24="","",IF(AN24="D",1,IF(AN24="W",2,0))) | AP24: =IF(AO24="","",SUM(AO$6:AO24)) | AR24: =IF(OR($AV$29,Scores!$H$1<$C$24),"",Scores!$AE$30) | AS24: =IF(OR($AV$29,Scores!$H$1<$C$24),"",Scores!$AF$30) | AT24: =IF(AR24="","",IF(AR24="N","NCR",IF(AR24="D","DQ",Scores!$AG$30))) | AU24: =IF($AV$29,0,IF(OR(AT24="NCR",AT24="DQ"),-5000,IF(AT24="","",(AT24-$AY$3)/(200-$AY$3)*100))) | AV24: 4 | AW24: =IF(OR($H$29,AT24=""),"",IF(AT24="NCR",0,AT24)+IF($C24=1,0,AW22)) | AX24: =IF(Scores!$H$1<$C24,"",IF(AU24="","",IF(OR(AT24="NCR",AT24="DQ"),"L",IF(OR(OFFSET($F24,0,(AV24-1)*10)="NCR",OFFSET($F24,0,(AV24-1)*10)="DQ"),"W",IF(OFFSET($G24,0,(AV24-1)*10)="","",IF(AU24=OFFSET($G24,0,(AV24-1)*10),"D",IF(AU24<OFFSET($G24,0,(AV24-1)*10),"L","W"))))))) | AY24: =IF(AX24="","",IF(AX24="D",1,IF(AX24="W",2,0))) | AZ24: =IF(AY24="","",SUM(AY$6:AY24)) | BB24: =IF(OR($BF$29,Scores!$H$1<$C$24),"",Scores!$AE$32) | BC24: =IF(OR($BF$29,Scores!$H$1<$C$24),"",Scores!$AF$32) | BD24: =IF(BB24="","",IF(BB24="N","NCR",IF(BB24="D","DQ",Scores!$AG$32))) | BE24: =IF($BF$29,0,IF(OR(BD24="NCR",BD24="DQ"),-5000,IF(BD24="","",(BD24-$BI$3)/(200-$BI$3)*100))) | BF24: 1 | BG24: =IF(OR($H$29,BD24=""),"",IF(BD24="NCR",0,BD24)+IF($C24=1,0,BG22)) | BH24: =IF(Scores!$H$1<$C24,"",IF(BE24="","",IF(OR(BD24="NCR",BD24="DQ"),"L",IF(OR(OFFSET($F24,0,(BF24-1)*10)="NCR",OFFSET($F24,0,(BF24-1)*10)="DQ"),"W",IF(OFFSET($G24,0,(BF24-1)*10)="","",IF(BE24=OFFSET($G24,0,(BF24-1)*10),"D",IF(BE24<OFFSET($G24,0,(BF24-1)*10),"L","W"))))))) | BI24: =IF(BH24="","",IF(BH24="D",1,IF(BH24="W",2,0))) | BJ24: =IF(BI24="","",SUM(BI$6:BI24))
D25: =IF(OR($H$29,Scores!$H$1<$C$24),"",Scores!$AE$23) | E25: =IF(OR($H$29,Scores!$H$1<$C$24),"",Scores!$AF$23) | N25: =IF(OR($R$29,Scores!$H$1<$C$24),"",Scores!$AE$25) | O25: =IF(OR($R$29,Scores!$H$1<$C$24),"",Scores!$AF$25) | X25: =IF(OR($AB$29,Scores!$H$1<$C$24),"",Scores!$AE$27) | Y25: =IF(OR($AB$29,Scores!$H$1<$C$24),"",Scores!$AF$27) | AH25: =IF(OR($AL$29,Scores!$H$1<$C$24),"",Scores!$AE$29) | AI25: =IF(OR($AL$29,Scores!$H$1<$C$24),"",Scores!$AF$29) | AR25: =IF(OR($AV$29,Scores!$H$1<$C$24),"",Scores!$AE$31) | AS25: =IF(OR($AV$29,Scores!$H$1<$C$24),"",Scores!$AF$31) | BB25: =IF(OR($BF$29,Scores!$H$1<$C$24),"",Scores!$AE$33) | BC25: =IF(OR($BF$29,Scores!$H$1<$C$24),"",Scores!$AF$33)
D26: Pos | H26: Ave 5 of last 6 | J26: Total Points | N26: Pos | R26: Ave 5 of last 6 | T26: Total Points | X26: Pos | AB26: Ave 5 of last 6 | AD26: Total Points | AH26: Pos | AL26: Ave 5 of last 6 | AN26: Total Points | AR26: Pos | AV26: Ave 5 of last 6 | AX26: Total Points | BB26: Pos | BF26: Ave 5 of last 6 | BH26: Total Points
D27: =IF(J27="","",RANK($N$30,$N$30:$S$30,0)) | G27: =IF(OR(,Scores!$H$1=0,COUNT(G6:G24)=0),"",IF(H29,0,IF(COUNT(F6:F24)=0,-5000,(SUM(F6:F24)-(COUNT(F6:F24)*K$3))/(COUNT(F6:F24)*(200-K$3))*100))) | H27: =IF(OR($H$29,ISERROR(AVERAGE(LARGE(F14:F24,{1,2,3,4,5})))),"",AVERAGE(LARGE(F14:F24,{1,2,3,4,5}))) | J27: =IF(G27="","",MAX(L6:L24)) | N27: =IF(T27="","",RANK($O$30,$N$30:$S$30,0)) | Q27: =IF(OR(,Scores!$H$1=0,COUNT(Q6:Q24)=0),"",IF(R29,0,IF(COUNT(P6:P24)=0,-5000,(SUM(P6:P24)-(COUNT(P6:P24)*U$3))/(COUNT(P6:P24)*(200-U$3))*100))) | R27: =IF(OR($R$29,ISERROR(AVERAGE(LARGE(P14:P24,{1,2,3,4,5})))),"",AVERAGE(LARGE(P14:P24,{1,2,3,4,5}))) | T27: =IF(Q27="","",MAX(V6:V24)) | X27: =IF(AD27="","",RANK($P$30,$N$30:$S$30,0)) | AA27: =IF(OR(,Scores!$H$1=0,COUNT(AA6:AA24)=0),"",IF(AB29,0,IF(COUNT(Z6:Z24)=0,-5000,(SUM(Z6:Z24)-(COUNT(Z6:Z24)*AE$3))/(COUNT(Z6:Z24)*(200-AE$3))*100))) | AB27: =IF(OR($AB$29,ISERROR(AVERAGE(LARGE(Z14:Z24,{1,2,3,4,5})))),"",AVERAGE(LARGE(Z14:Z24,{1,2,3,4,5}))) | AD27: =IF(AA27="","",MAX(AF6:AF24)) | AH27: =IF(AN27="","",RANK($Q$30,$N$30:$S$30,0)) | AK27: =IF(OR(,Scores!$H$1=0,COUNT(AK6:AK24)=0),"",IF(AL29,0,IF(COUNT(AJ6:AJ24)=0,-5000,(SUM(AJ6:AJ24)-(COUNT(AJ6:AJ24)*AO$3))/(COUNT(AJ6:AJ24)*(200-AO$3))*100))) | AL27: =IF(OR($AL$29,ISERROR(AVERAGE(LARGE(AJ14:AJ24,{1,2,3,4,5})))),"",AVERAGE(LARGE(AJ14:AJ24,{1,2,3,4,5}))) | AN27: =IF(AK27="","",MAX(AP6:AP24)) | AR27: =IF(AX27="","",RANK($R$30,$N$30:$S$30,0)) | AU27: =IF(OR(,Scores!$H$1=0,COUNT(AU6:AU24)=0),"",IF(AV29,0,IF(COUNT(AT6:AT24)=0,-5000,(SUM(AT6:AT24)-(COUNT(AT6:AT24)*AY$3))/(COUNT(AT6:AT24)*(200-AY$3))*100))) | AV27: =IF(OR($AV$29,ISERROR(AVERAGE(LARGE(AT14:AT24,{1,2,3,4,5})))),"",AVERAGE(LARGE(AT14:AT24,{1,2,3,4,5}))) | AX27: =IF(AU27="","",MAX(AZ6:AZ24)) | BB27: =IF(BH27="","",RANK($S$30,$N$30:$S$30,0)) | BE27: =IF(OR(,Scores!$H$1=0,COUNT(BE6:BE24)=0),"",IF(BF29,0,IF(COUNT(BD6:BD24)=0,-5000,(SUM(BD6:BD24)-(COUNT(BD6:BD24)*BI$3))/(COUNT(BD6:BD24)*(200-BI$3))*100))) | BF27: =IF(OR($BF$29,ISERROR(AVERAGE(LARGE(BD14:BD24,{1,2,3,4,5})))),"",AVERAGE(LARGE(BD14:BD24,{1,2,3,4,5}))) | BH27: =IF(BE27="","",MAX(BJ6:BJ24))
B29: Shooter is a bogey → | H29: =$D$4="Bogey" -> FALSE | R29: =$N$4="Bogey" -> FALSE | AB29: =$X$4="Bogey" -> FALSE | AL29: =$AH$4="Bogey" -> FALSE | AV29: =$AR$4="Bogey" -> FALSE | BF29: =$BB$4="Bogey" -> FALSE
B30: Calculate position → | N30: =IF(ISNUMBER($J$27),$J$27+(ROUND(G27,2)/10000),-1) -> -1 | O30: =IF(ISNUMBER($T$27),$T$27+(ROUND(Q27,2)/10000),-2) -> -2 | P30: =IF(ISNUMBER($AD$27),$AD$27+(ROUND(AA27,2)/10000),-3) -> -3 | Q30: =IF(ISNUMBER($AN$27),$AN$27+(ROUND(AK27,2)/10000),-4) -> -4 | R30: =IF(ISNUMBER($AX$27),$AX$27+(ROUND(AU27,2)/10000),-5) -> -5 | S30: =IF(ISNUMBER($BH$27),$BH$27+(ROUND(BE27,2)/10000),-6) -> -6
J31: 0

Sheet Scores
F1: =IF(YEAR($D$18)<>YEAR($AE$18),"Winter","Summer") -> Winter | G1: =IF(YEAR($D$18)<>YEAR($AE$18),CONCATENATE(YEAR($D$18),"/",RIGHT(YEAR($AE$18),2)),YEAR($D$18)) -> 2026/27 | H1: =COUNTIF(F35:AG35,"Y") -> 0
B3: Use this spreadsheet only for % Improvement divisions.
B4: =CONCATENATE("Rename this spreadsheet file as """,MID($F$1,1,1),"IAR Div Z"" where Z is your div no.") -> Rename this spreadsheet file as "WIAR Div Z" where Z is your div no.
B5: Enter shooter details and scores on this sheet ONLY. They will automatically replicate on the results sheet.
B6: =CONCATENATE("Replace ""Z"" in the division number cell (",SUBSTITUTE(CELL("address",B20),"$",""),") with the appropriate division number (the title is then determined automatically).") -> Replace "Z" in the division number cell (B20) with the appropriate division number (the title is then determined automatically).
B7: Fill in club numbers, names, initials and averages (important). Enter “Bogey” in the name for each bogey in the division (you need do nothing else for them).
B8: Enter scores (as points scored) for four cards per shooter per round.
B9: Enter N rather than zero for any missing scores. Enter D for any disqualified scores. Note: put N or D in the top left cell to NCR or DQ the whole round.
B10: Scores will not appear on the result sheet until Y is entered in the red cell under the round number. This will allow scores to be entered in advance and not show on the results sheet.
B11: =CONCATENATE("After each round is complete, select the result sheet and menu File > Export > PDF. Ensure the range is “selected sheets” then click Export. Save the file as ",MID($F$1,1,1),"IAR Div Z.pdf where Z is your div no. Email the pdf to the CSSC TSA Results address (or upload through the web site). Please don't send this spreadsheet.") -> After each round is complete, select the result sheet and menu File > Export > PDF. Ensure the range is “selected sheets” then click Export. Save the file as WIAR Div Z.pdf where Z is your div no. Email the pdf to the CSSC TSA Results address (or upload through the web site). Please don't send this spreadsheet.
B12: =CONCATENATE("You can hide these ",ROW($B$12)-ROW($B$3)+1," rows if you don’t need the instructions any more.") -> You can hide these 10 rows if you don’t need the instructions any more.
B14: The below cells contain (per shooter):
B15: Club No. | C15: Average
B16: Shooter Name
C18: LDFS → | D18: 46316 | G18: 46330 | J18: 46344 | M18: 46358 | P18: 46372 | S18: 46393 | V18: 46407 | Y18: 46421 | AB18: 46435 | AE18: 46449
B19: Division: | C19: Due with SO → | D19: =D18+5 -> 46321 | G19: =G18+5 -> 46335 | J19: =J18+5 -> 46349 | M19: =M18+5 -> 46363 | P19: =P18+5 -> 46377 | S19: =S18+5 -> 46398 | V19: =V18+5 -> 46412 | Y19: =Y18+5 -> 46426 | AB19: =AB18+5 -> 46440 | AE19: =AE18+5 -> 46454
B20: Z | C20: Round No. → | D20: 1 | G20: 2 | J20: 3 | M20: 4 | P20: 5 | S20: 6 | V20: 7 | Y20: 8 | AB20: 9 | AE20: 10
B21: =CONCATENATE("CSSC TSA ",$F$1," ",$G$1," IAR Div ",$B$20," (% Improvement)") -> CSSC TSA Winter 2026/27 IAR Div Z (% Improvement)
F22: =SUM(D22:E23) -> 0 | I22: =SUM(G22:H23) -> 0 | L22: =SUM(J22:K23) -> 0 | O22: =SUM(M22:N23) -> 0 | R22: =SUM(P22:Q23) -> 0 | U22: =SUM(S22:T23) -> 0 | X22: =SUM(V22:W23) -> 0 | AA22: =SUM(Y22:Z23) -> 0 | AD22: =SUM(AB22:AC23) -> 0 | AG22: =SUM(AE22:AF23) -> 0
F24: =SUM(D24:E25) -> 0 | I24: =SUM(G24:H25) -> 0 | L24: =SUM(J24:K25) -> 0 | O24: =SUM(M24:N25) -> 0 | R24: =SUM(P24:Q25) -> 0 | U24: =SUM(S24:T25) -> 0 | X24: =SUM(V24:W25) -> 0 | AA24: =SUM(Y24:Z25) -> 0 | AD24: =SUM(AB24:AC25) -> 0 | AG24: =SUM(AE24:AF25) -> 0
F26: =SUM(D26:E27) -> 0 | I26: =SUM(G26:H27) -> 0 | L26: =SUM(J26:K27) -> 0 | O26: =SUM(M26:N27) -> 0 | R26: =SUM(P26:Q27) -> 0 | U26: =SUM(S26:T27) -> 0 | X26: =SUM(V26:W27) -> 0 | AA26: =SUM(Y26:Z27) -> 0 | AD26: =SUM(AB26:AC27) -> 0 | AG26: =SUM(AE26:AF27) -> 0
F28: =SUM(D28:E29) -> 0 | I28: =SUM(G28:H29) -> 0 | L28: =SUM(J28:K29) -> 0 | O28: =SUM(M28:N29) -> 0 | R28: =SUM(P28:Q29) -> 0 | U28: =SUM(S28:T29) -> 0 | X28: =SUM(V28:W29) -> 0 | AA28: =SUM(Y28:Z29) -> 0 | AD28: =SUM(AB28:AC29) -> 0 | AG28: =SUM(AE28:AF29) -> 0
F30: =SUM(D30:E31) -> 0 | I30: =SUM(G30:H31) -> 0 | L30: =SUM(J30:K31) -> 0 | O30: =SUM(M30:N31) -> 0 | R30: =SUM(P30:Q31) -> 0 | U30: =SUM(S30:T31) -> 0 | X30: =SUM(V30:W31) -> 0 | AA30: =SUM(Y30:Z31) -> 0 | AD30: =SUM(AB30:AC31) -> 0 | AG30: =SUM(AE30:AF31) -> 0
F32: =SUM(D32:E33) -> 0 | I32: =SUM(G32:H33) -> 0 | L32: =SUM(J32:K33) -> 0 | O32: =SUM(M32:N33) -> 0 | R32: =SUM(P32:Q33) -> 0 | U32: =SUM(S32:T33) -> 0 | X32: =SUM(V32:W33) -> 0 | AA32: =SUM(Y32:Z33) -> 0 | AD32: =SUM(AB32:AC33) -> 0 | AG32: =SUM(AE32:AF33) -> 0
B35: Round complete or closed: → | F35: =IF(D$19<=TODAY(),"Y","") | I35: =IF(G$19<=TODAY(),"Y","") | L35: =IF(J$19<=TODAY(),"Y","") | O35: =IF(M$19<=TODAY(),"Y","") | R35: =IF(P$19<=TODAY(),"Y","") | U35: =IF(S$19<=TODAY(),"Y","") | X35: =IF(V$19<=TODAY(),"Y","") | AA35: =IF(Y$19<=TODAY(),"Y","") | AD35: =IF(AB$19<=TODAY(),"Y","") | AG35: =IF(AE$19<=TODAY(),"Y","")
B36: The indicator will set automatically when the due date passes. You can override it (by entering Y) if you have all the scores ahead of time.
